BEGIN:VCALENDAR
VERSION:2.0
PRODID:-//AusschreibungsRadar//Timeline//DE
CALSCALE:GREGORIAN
METHOD:PUBLISH
X-WR-CALNAME:Projekt Erweiterung der Iven-Agßen-Schule (Grundschule) in 25813 Hus
X-WR-TIMEZONE:Europe/Berlin
BEGIN:VEVENT
UID:279c469ce2a297c4@ausschreibungsradar.com
DTSTAMP:20260425T023931Z
DTSTART;VALUE=DATE:20250908
DTEND;VALUE=DATE:20250908
SUMMARY:Angebotsfrist — Erweiterung der Iven-Agßen-Schule (Grundschule) in 25813 Hus
DESCRIPTION:Phase: Ausschreibung | Beschreibung: Angebote werden eingeholt | Link: https://ausschreibungsradar.com/ausschreibung/60275835-d27c-4c39-84c6-74505e50e645/ | Geschätzter Wert: 9500000 €
URL:https://ausschreibungsradar.com/ausschreibung/60275835-d27c-4c39-84c6-74505e50e645/
END:VEVENT
BEGIN:VEVENT
UID:33cca58461f18f19@ausschreibungsradar.com
DTSTAMP:20260425T023931Z
DTSTART;VALUE=DATE:20251128
DTEND;VALUE=DATE:20251128
SUMMARY:Vergabeergebnis — Erweiterung der Iven-Agßen-Schule (Grundschule) in 25813 Hus
DESCRIPTION:Phase: Vergabeergebnis | Beschreibung: Auftrag wurde zugeschlagen | Link: https://ausschreibungsradar.com/ausschreibung/1ba16bb4-c42d-4f25-b629-c9fe704b2853/ | Geschätzter Wert: 1 €
URL:https://ausschreibungsradar.com/ausschreibung/1ba16bb4-c42d-4f25-b629-c9fe704b2853/
END:VEVENT
BEGIN:VEVENT
UID:a1524125f55b629a@ausschreibungsradar.com
DTSTAMP:20260425T023931Z
DTSTART;VALUE=DATE:20251128
DTEND;VALUE=DATE:20251128
SUMMARY:Zuschlag — Erweiterung der Iven-Agßen-Schule (Grundschule) in 25813 Hus
DESCRIPTION:Phase: Zuschlag | Beschreibung: Vergabeergebnis — Auftrag wurde erteilt oder Verfahren beendet. | Link: https://ausschreibungsradar.com/ausschreibung/d06a8df0-6863-491b-86c6-eaf987df94d8/
URL:https://ausschreibungsradar.com/ausschreibung/d06a8df0-6863-491b-86c6-eaf987df94d8/
END:VEVENT
END:VCALENDAR
