BEGIN:VCALENDAR
VERSION:2.0
PRODID:-//AusschreibungsRadar//Timeline//DE
CALSCALE:GREGORIAN
METHOD:PUBLISH
X-WR-CALNAME:Projekt Erweiterung der Gemeinschaftsschule Kappeln, Innentüren
X-WR-TIMEZONE:Europe/Berlin
BEGIN:VEVENT
UID:c390219239d19356@ausschreibungsradar.com
DTSTAMP:20260423T232705Z
DTSTART;VALUE=DATE:20240320
DTEND;VALUE=DATE:20240320
SUMMARY:Angebotsfrist — Erweiterung der Gemeinschaftsschule Kappeln\, Innentüren
DESCRIPTION:Phase: Ausschreibung | Beschreibung: Angebote werden eingeholt | Link: https://ausschreibungsradar.com/ausschreibung/a3ef632f-a5ce-4cf4-85c4-e98035da3b43/
URL:https://ausschreibungsradar.com/ausschreibung/a3ef632f-a5ce-4cf4-85c4-e98035da3b43/
END:VEVENT
BEGIN:VEVENT
UID:15c3562e0dc598f1@ausschreibungsradar.com
DTSTAMP:20260423T232705Z
DTSTART;VALUE=DATE:20240514
DTEND;VALUE=DATE:20240514
SUMMARY:Vergabeergebnis — Erweiterung der Gemeinschaftsschule Kappeln\, Innentüren
DESCRIPTION:Phase: Vergabeergebnis | Beschreibung: Auftrag wurde zugeschlagen | Link: https://ausschreibungsradar.com/ausschreibung/1bd53765-68aa-4940-aae2-4cf7e4de39be/
URL:https://ausschreibungsradar.com/ausschreibung/1bd53765-68aa-4940-aae2-4cf7e4de39be/
END:VEVENT
BEGIN:VEVENT
UID:279dd77d942e3ffc@ausschreibungsradar.com
DTSTAMP:20260423T232705Z
DTSTART;VALUE=DATE:20240514
DTEND;VALUE=DATE:20240514
SUMMARY:Zuschlag — Erweiterung der Gemeinschaftsschule Kappeln\, Innentüren
DESCRIPTION:Phase: Zuschlag | Beschreibung: Vergabeergebnis — Auftrag wurde erteilt oder Verfahren beendet. | Link: https://ausschreibungsradar.com/ausschreibung/440879c9-0855-4e94-ba6e-de0a24c60783/
URL:https://ausschreibungsradar.com/ausschreibung/440879c9-0855-4e94-ba6e-de0a24c60783/
END:VEVENT
BEGIN:VEVENT
UID:dca3024da9568310@ausschreibungsradar.com
DTSTAMP:20260423T232705Z
DTSTART;VALUE=DATE:20240514
DTEND;VALUE=DATE:20240514
SUMMARY:Zuschlag — Erweiterung der Gemeinschaftsschule Kappeln\, Innentüren
DESCRIPTION:Phase: Zuschlag | Beschreibung: Vergabeergebnis — Auftrag wurde erteilt oder Verfahren beendet. | Link: https://ausschreibungsradar.com/ausschreibung/aa11318b-083a-4da2-a52c-fa256c73708a/
URL:https://ausschreibungsradar.com/ausschreibung/aa11318b-083a-4da2-a52c-fa256c73708a/
END:VEVENT
BEGIN:VEVENT
UID:3ab65b2583ab04f4@ausschreibungsradar.com
DTSTAMP:20260423T232705Z
DTSTART;VALUE=DATE:20240529
DTEND;VALUE=DATE:20240529
SUMMARY:Zuschlag — Erweiterung der Gemeinschaftsschule Kappeln\, Innentüren
DESCRIPTION:Phase: Zuschlag | Beschreibung: Vergabeergebnis — Auftrag wurde erteilt oder Verfahren beendet. | Link: https://ausschreibungsradar.com/ausschreibung/0cb70713-e7d2-497c-89bb-837c9fe0c0f4/
URL:https://ausschreibungsradar.com/ausschreibung/0cb70713-e7d2-497c-89bb-837c9fe0c0f4/
END:VEVENT
BEGIN:VEVENT
UID:e602e65f204d69b6@ausschreibungsradar.com
DTSTAMP:20260423T232705Z
DTSTART;VALUE=DATE:20240605
DTEND;VALUE=DATE:20240605
SUMMARY:Ausschreibung — Erweiterung der Gemeinschaftsschule Kappeln\, Innentüren
DESCRIPTION:Phase: Ausschreibung | Beschreibung: Offizielle Ausschreibung mit Bieterfrist. | Link: https://ausschreibungsradar.com/ausschreibung/510d4557-1a31-47c7-8bb7-ba4722c3b54e/
URL:https://ausschreibungsradar.com/ausschreibung/510d4557-1a31-47c7-8bb7-ba4722c3b54e/
END:VEVENT
END:VCALENDAR
