BEGIN:VCALENDAR
VERSION:2.0
PRODID:-//AusschreibungsRadar//Timeline//DE
CALSCALE:GREGORIAN
METHOD:PUBLISH
X-WR-CALNAME:Projekt Freianlagenplanung Bahnhofsvorplatz Bad Pyrmont
X-WR-TIMEZONE:Europe/Berlin
BEGIN:VEVENT
UID:5dc30c8d6e3cedac@ausschreibungsradar.com
DTSTAMP:20260423T233016Z
DTSTART;VALUE=DATE:20241129
DTEND;VALUE=DATE:20241129
SUMMARY:Ausschreibung — Freianlagenplanung Bahnhofsvorplatz Bad Pyrmont
DESCRIPTION:Phase: Ausschreibung | Beschreibung: Angebote werden eingeholt | Link: https://ausschreibungsradar.com/ausschreibung/1bdcdcc8-74b8-4b16-bf6c-c81aef339d58/
URL:https://ausschreibungsradar.com/ausschreibung/1bdcdcc8-74b8-4b16-bf6c-c81aef339d58/
END:VEVENT
BEGIN:VEVENT
UID:d5d78f4b93a41170@ausschreibungsradar.com
DTSTAMP:20260423T233016Z
DTSTART;VALUE=DATE:20241129
DTEND;VALUE=DATE:20241129
SUMMARY:Ausschreibung — Freianlagenplanung Bahnhofsvorplatz Bad Pyrmont
DESCRIPTION:Phase: Ausschreibung | Beschreibung: Offizielle Ausschreibung mit Bieterfrist. | Link: https://ausschreibungsradar.com/ausschreibung/eb320183-de30-4f04-85bc-c5aee9737a76/
URL:https://ausschreibungsradar.com/ausschreibung/eb320183-de30-4f04-85bc-c5aee9737a76/
END:VEVENT
END:VCALENDAR
