BEGIN:VCALENDAR
VERSION:2.0
PRODID:-//AusschreibungsRadar//Timeline//DE
CALSCALE:GREGORIAN
METHOD:PUBLISH
X-WR-CALNAME:Projekt Staatliches Berufliches Schulzentrum Wiesau – Ersatzneubau W
X-WR-TIMEZONE:Europe/Berlin
BEGIN:VEVENT
UID:6dfb52ff38d9ee35@ausschreibungsradar.com
DTSTAMP:20260425T194125Z
DTSTART;VALUE=DATE:20250721
DTEND;VALUE=DATE:20250721
SUMMARY:Ausschreibung — Staatliches Berufliches Schulzentrum Wiesau – Ersatzneubau W
DESCRIPTION:Phase: Ausschreibung | Beschreibung: Angebote werden eingeholt | Link: https://ausschreibungsradar.com/ausschreibung/b45e4342-b0b7-464c-b1c5-49699cdc0955/
URL:https://ausschreibungsradar.com/ausschreibung/b45e4342-b0b7-464c-b1c5-49699cdc0955/
END:VEVENT
BEGIN:VEVENT
UID:d9ebb26e44077280@ausschreibungsradar.com
DTSTAMP:20260425T194125Z
DTSTART;VALUE=DATE:20250721
DTEND;VALUE=DATE:20250721
SUMMARY:Ausschreibung — Staatliches Berufliches Schulzentrum Wiesau – Ersatzneubau W
DESCRIPTION:Phase: Ausschreibung | Beschreibung: Offizielle Ausschreibung mit Bieterfrist. | Link: https://ausschreibungsradar.com/ausschreibung/f2f98f8e-b174-46fd-8874-5f979a262140/
URL:https://ausschreibungsradar.com/ausschreibung/f2f98f8e-b174-46fd-8874-5f979a262140/
END:VEVENT
BEGIN:VEVENT
UID:aa8c02da190ac18c@ausschreibungsradar.com
DTSTAMP:20260425T194125Z
DTSTART;VALUE=DATE:20260203
DTEND;VALUE=DATE:20260203
SUMMARY:Vergabeergebnis — Staatliches Berufliches Schulzentrum Wiesau – Ersatzneubau W
DESCRIPTION:Phase: Vergabeergebnis | Beschreibung: Auftrag wurde zugeschlagen | Link: https://ausschreibungsradar.com/ausschreibung/1c010b64-9138-45b3-8467-892bd9d05bc1/ | Auftragnehmer: Projekt-HLS GmbH & Co. KG
URL:https://ausschreibungsradar.com/ausschreibung/1c010b64-9138-45b3-8467-892bd9d05bc1/
END:VEVENT
BEGIN:VEVENT
UID:85ce00d4afb98dee@ausschreibungsradar.com
DTSTAMP:20260425T194125Z
DTSTART;VALUE=DATE:20260203
DTEND;VALUE=DATE:20260203
SUMMARY:Zuschlag — Staatliches Berufliches Schulzentrum Wiesau – Ersatzneubau W
DESCRIPTION:Phase: Zuschlag | Beschreibung: Vergabeergebnis — Auftrag wurde erteilt oder Verfahren beendet. | Link: https://ausschreibungsradar.com/ausschreibung/f6291f34-bdbd-4e49-8222-0f184797da9a/
URL:https://ausschreibungsradar.com/ausschreibung/f6291f34-bdbd-4e49-8222-0f184797da9a/
END:VEVENT
BEGIN:VEVENT
UID:8496c482e7b2d5c5@ausschreibungsradar.com
DTSTAMP:20260425T194125Z
DTSTART;VALUE=DATE:20260203
DTEND;VALUE=DATE:20260203
SUMMARY:Zuschlag — Staatliches Berufliches Schulzentrum Wiesau – Ersatzneubau W
DESCRIPTION:Phase: Zuschlag | Beschreibung: Vergabeergebnis — Auftrag wurde erteilt oder Verfahren beendet. | Link: https://ausschreibungsradar.com/ausschreibung/0a4b1b3e-0b9b-4cd3-84cb-d96a8efe79ee/
URL:https://ausschreibungsradar.com/ausschreibung/0a4b1b3e-0b9b-4cd3-84cb-d96a8efe79ee/
END:VEVENT
END:VCALENDAR
