BEGIN:VCALENDAR
VERSION:2.0
PRODID:-//AusschreibungsRadar//Timeline//DE
CALSCALE:GREGORIAN
METHOD:PUBLISH
X-WR-CALNAME:Projekt 3. Gesamtschule 2. Bauabschnitt, Malerarbeiten
X-WR-TIMEZONE:Europe/Berlin
BEGIN:VEVENT
UID:3e5b31050d1e09b9@ausschreibungsradar.com
DTSTAMP:20260424T232959Z
DTSTART;VALUE=DATE:20231121
DTEND;VALUE=DATE:20231121
SUMMARY:Ausschreibung — 3. Gesamtschule 2. Bauabschnitt\, Malerarbeiten
DESCRIPTION:Phase: Ausschreibung | Beschreibung: Offizielle Ausschreibung mit Bieterfrist. | Link: https://ausschreibungsradar.com/ausschreibung/aa4c76c5-a87e-4eeb-b9af-6d738dd5e597/
URL:https://ausschreibungsradar.com/ausschreibung/aa4c76c5-a87e-4eeb-b9af-6d738dd5e597/
END:VEVENT
BEGIN:VEVENT
UID:041687a99905ce07@ausschreibungsradar.com
DTSTAMP:20260424T232959Z
DTSTART;VALUE=DATE:20240109
DTEND;VALUE=DATE:20240109
SUMMARY:Angebotsfrist — 3. Gesamtschule 2. Bauabschnitt\, Malerarbeiten
DESCRIPTION:Phase: Ausschreibung | Beschreibung: Angebote werden eingeholt | Link: https://ausschreibungsradar.com/ausschreibung/1c448dbe-4fd7-410b-8b76-40de778468d1/
URL:https://ausschreibungsradar.com/ausschreibung/1c448dbe-4fd7-410b-8b76-40de778468d1/
END:VEVENT
END:VCALENDAR
