BEGIN:VCALENDAR
VERSION:2.0
PRODID:-//AusschreibungsRadar//Timeline//DE
CALSCALE:GREGORIAN
METHOD:PUBLISH
X-WR-CALNAME:Projekt Handwerkskammer Berlin: Liefer- und Dienstleistungen für die
X-WR-TIMEZONE:Europe/Berlin
BEGIN:VEVENT
UID:1df6c31c83ffc3c5@ausschreibungsradar.com
DTSTAMP:20260424T233001Z
DTSTART;VALUE=DATE:20250404
DTEND;VALUE=DATE:20250404
SUMMARY:Angebotsfrist — Handwerkskammer Berlin: Liefer- und Dienstleistungen für die
DESCRIPTION:Phase: Ausschreibung | Beschreibung: Angebote werden eingeholt | Link: https://ausschreibungsradar.com/ausschreibung/1c4a1b64-3c9a-4713-8b8a-6e7e4ad6776d/
URL:https://ausschreibungsradar.com/ausschreibung/1c4a1b64-3c9a-4713-8b8a-6e7e4ad6776d/
END:VEVENT
BEGIN:VEVENT
UID:14d7ce60e958e096@ausschreibungsradar.com
DTSTAMP:20260424T233001Z
DTSTART;VALUE=DATE:20250304
DTEND;VALUE=DATE:20250304
SUMMARY:Ausschreibung — Handwerkskammer Berlin: Liefer- und Dienstleistungen für die
DESCRIPTION:Phase: Ausschreibung | Beschreibung: Offizielle Ausschreibung mit Bieterfrist. | Link: https://ausschreibungsradar.com/ausschreibung/468f039a-6568-4890-ba01-fd1c2eed0334/
URL:https://ausschreibungsradar.com/ausschreibung/468f039a-6568-4890-ba01-fd1c2eed0334/
END:VEVENT
BEGIN:VEVENT
UID:0cbcb92c79400017@ausschreibungsradar.com
DTSTAMP:20260424T233001Z
DTSTART;VALUE=DATE:20250616
DTEND;VALUE=DATE:20250616
SUMMARY:Vergabeergebnis — Handwerkskammer Berlin: Liefer- und Dienstleistungen für die
DESCRIPTION:Phase: Vergabeergebnis | Beschreibung: Auftrag wurde zugeschlagen | Link: https://ausschreibungsradar.com/ausschreibung/1b624a6a-7af4-4630-90ae-ef6430825ba2/
URL:https://ausschreibungsradar.com/ausschreibung/1b624a6a-7af4-4630-90ae-ef6430825ba2/
END:VEVENT
END:VCALENDAR
