BEGIN:VCALENDAR
VERSION:2.0
PRODID:-//AusschreibungsRadar//Timeline//DE
CALSCALE:GREGORIAN
METHOD:PUBLISH
X-WR-CALNAME:Projekt MÜNCHENSTIFT GmbH: TGM 2026 - 02_03 - Kältetechnik
X-WR-TIMEZONE:Europe/Berlin
BEGIN:VEVENT
UID:e243c8becfa1e665@ausschreibungsradar.com
DTSTAMP:20260424T001017Z
DTSTART;VALUE=DATE:20250627
DTEND;VALUE=DATE:20250627
SUMMARY:Ausschreibung — MÜNCHENSTIFT GmbH: TGM 2026 - 02_03 - Kältetechnik
DESCRIPTION:Phase: Ausschreibung | Beschreibung: Offizielle Ausschreibung mit Bieterfrist. | Link: https://ausschreibungsradar.com/ausschreibung/bd562558-4b03-492b-8c5d-3e50acf09fc0/
URL:https://ausschreibungsradar.com/ausschreibung/bd562558-4b03-492b-8c5d-3e50acf09fc0/
END:VEVENT
BEGIN:VEVENT
UID:c675a1a7083391b2@ausschreibungsradar.com
DTSTAMP:20260424T001017Z
DTSTART;VALUE=DATE:20250704
DTEND;VALUE=DATE:20250704
SUMMARY:Ausschreibung — MÜNCHENSTIFT GmbH: TGM 2026 - 02_03 - Kältetechnik
DESCRIPTION:Phase: Ausschreibung | Beschreibung: Offizielle Ausschreibung mit Bieterfrist. | Link: https://ausschreibungsradar.com/ausschreibung/07204173-3bcc-4a4b-8198-8ac979146aeb/
URL:https://ausschreibungsradar.com/ausschreibung/07204173-3bcc-4a4b-8198-8ac979146aeb/
END:VEVENT
BEGIN:VEVENT
UID:5195e90872b7e57c@ausschreibungsradar.com
DTSTAMP:20260424T001017Z
DTSTART;VALUE=DATE:20250826
DTEND;VALUE=DATE:20250826
SUMMARY:Angebotsfrist — MÜNCHENSTIFT GmbH: TGM 2026 - 02_03 - Kältetechnik
DESCRIPTION:Phase: Ausschreibung | Beschreibung: Angebote werden eingeholt | Link: https://ausschreibungsradar.com/ausschreibung/1c888522-e3fc-4771-9e8c-aa317536dff9/
URL:https://ausschreibungsradar.com/ausschreibung/1c888522-e3fc-4771-9e8c-aa317536dff9/
END:VEVENT
BEGIN:VEVENT
UID:d1cfece57e5a7eb4@ausschreibungsradar.com
DTSTAMP:20260424T001017Z
DTSTART;VALUE=DATE:20250821
DTEND;VALUE=DATE:20250821
SUMMARY:Ausschreibung — MÜNCHENSTIFT GmbH: TGM 2026 - 02_03 - Kältetechnik
DESCRIPTION:Phase: Ausschreibung | Beschreibung: Offizielle Ausschreibung mit Bieterfrist. | Link: https://ausschreibungsradar.com/ausschreibung/0dbc407e-09b3-4097-9781-60ee3f421c01/
URL:https://ausschreibungsradar.com/ausschreibung/0dbc407e-09b3-4097-9781-60ee3f421c01/
END:VEVENT
BEGIN:VEVENT
UID:056db0da0716d775@ausschreibungsradar.com
DTSTAMP:20260424T001017Z
DTSTART;VALUE=DATE:20250821
DTEND;VALUE=DATE:20250821
SUMMARY:Ausschreibung — MÜNCHENSTIFT GmbH: TGM 2026 - 02_03 - Kältetechnik
DESCRIPTION:Phase: Ausschreibung | Beschreibung: Offizielle Ausschreibung mit Bieterfrist. | Link: https://ausschreibungsradar.com/ausschreibung/bd6f8b8d-d436-4ca8-bdbc-e7e6ba2aea3f/
URL:https://ausschreibungsradar.com/ausschreibung/bd6f8b8d-d436-4ca8-bdbc-e7e6ba2aea3f/
END:VEVENT
END:VCALENDAR
