BEGIN:VCALENDAR
VERSION:2.0
PRODID:-//AusschreibungsRadar//Timeline//DE
CALSCALE:GREGORIAN
METHOD:PUBLISH
X-WR-CALNAME:Projekt Werbekonzession - Verkehrsmittelwerbung
X-WR-TIMEZONE:Europe/Berlin
BEGIN:VEVENT
UID:3f9658b1b03f19ab@ausschreibungsradar.com
DTSTAMP:20260424T054423Z
DTSTART;VALUE=DATE:20260417
DTEND;VALUE=DATE:20260417
SUMMARY:Ausschreibung — Werbekonzession - Verkehrsmittelwerbung
DESCRIPTION:Phase: Ausschreibung | Beschreibung: Offizielle Ausschreibung mit Bieterfrist. | Link: https://ausschreibungsradar.com/ausschreibung/1cb22d70-79ce-4556-8399-cd40fe2e7b72/
URL:https://ausschreibungsradar.com/ausschreibung/1cb22d70-79ce-4556-8399-cd40fe2e7b72/
END:VEVENT
BEGIN:VEVENT
UID:8d5c70e2790d969d@ausschreibungsradar.com
DTSTAMP:20260424T054423Z
DTSTART;VALUE=DATE:20260420
DTEND;VALUE=DATE:20260420
SUMMARY:Ausschreibung — Werbekonzession - Verkehrsmittelwerbung
DESCRIPTION:Phase: Ausschreibung | Beschreibung: Offizielle Ausschreibung mit Bieterfrist. | Link: https://ausschreibungsradar.com/ausschreibung/ted-268675-2026/
URL:https://ausschreibungsradar.com/ausschreibung/ted-268675-2026/
END:VEVENT
END:VCALENDAR
