BEGIN:VCALENDAR
VERSION:2.0
PRODID:-//AusschreibungsRadar//Timeline//DE
CALSCALE:GREGORIAN
METHOD:PUBLISH
X-WR-CALNAME:Projekt Gebäudereinigung in 7 Losen
X-WR-TIMEZONE:Europe/Berlin
BEGIN:VEVENT
UID:a4d0ee60659dff35@ausschreibungsradar.com
DTSTAMP:20260425T111526Z
DTSTART;VALUE=DATE:20231221
DTEND;VALUE=DATE:20231221
SUMMARY:Angebotsfrist — Gebäudereinigung in 7 Losen
DESCRIPTION:Phase: Ausschreibung | Beschreibung: Angebote werden eingeholt | Link: https://ausschreibungsradar.com/ausschreibung/ccc8eefd-e3a2-4688-b8ba-6049529751c9/
URL:https://ausschreibungsradar.com/ausschreibung/ccc8eefd-e3a2-4688-b8ba-6049529751c9/
END:VEVENT
BEGIN:VEVENT
UID:76a18cfdc9b9ba45@ausschreibungsradar.com
DTSTAMP:20260425T111526Z
DTSTART;VALUE=DATE:20231120
DTEND;VALUE=DATE:20231120
SUMMARY:Ausschreibung — Gebäudereinigung in 7 Losen
DESCRIPTION:Phase: Ausschreibung | Beschreibung: Offizielle Ausschreibung mit Bieterfrist. | Link: https://ausschreibungsradar.com/ausschreibung/d13dcb89-4424-4172-b4c1-b6c0f486c53c/
URL:https://ausschreibungsradar.com/ausschreibung/d13dcb89-4424-4172-b4c1-b6c0f486c53c/
END:VEVENT
BEGIN:VEVENT
UID:a7970105a1f4354f@ausschreibungsradar.com
DTSTAMP:20260425T111526Z
DTSTART;VALUE=DATE:20240229
DTEND;VALUE=DATE:20240229
SUMMARY:Vergabeergebnis — Gebäudereinigung in 7 Losen
DESCRIPTION:Phase: Vergabeergebnis | Beschreibung: Auftrag wurde zugeschlagen | Link: https://ausschreibungsradar.com/ausschreibung/1d04b82b-87b2-4303-9294-83cde547d9ba/
URL:https://ausschreibungsradar.com/ausschreibung/1d04b82b-87b2-4303-9294-83cde547d9ba/
END:VEVENT
END:VCALENDAR
