BEGIN:VCALENDAR
VERSION:2.0
PRODID:-//AusschreibungsRadar//Timeline//DE
CALSCALE:GREGORIAN
METHOD:PUBLISH
X-WR-CALNAME:Projekt Waltrop, Im Dicken Dören, Kommunale Entwicklungsmaßnahme; Ba
X-WR-TIMEZONE:Europe/Berlin
BEGIN:VEVENT
UID:c47a5c0cdaddedf5@ausschreibungsradar.com
DTSTAMP:20260424T054726Z
DTSTART;VALUE=DATE:20240905
DTEND;VALUE=DATE:20240905
SUMMARY:Angebotsfrist — Waltrop\, Im Dicken Dören\, Kommunale Entwicklungsmaßnahme\; Ba
DESCRIPTION:Phase: Ausschreibung | Beschreibung: Angebote werden eingeholt | Link: https://ausschreibungsradar.com/ausschreibung/3d2e0514-0971-478a-9a9e-e8a7389874aa/
URL:https://ausschreibungsradar.com/ausschreibung/3d2e0514-0971-478a-9a9e-e8a7389874aa/
END:VEVENT
BEGIN:VEVENT
UID:ea9d1cef037a5dcf@ausschreibungsradar.com
DTSTAMP:20260424T054726Z
DTSTART;VALUE=DATE:20251027
DTEND;VALUE=DATE:20251027
SUMMARY:Vergabeergebnis — Waltrop\, Im Dicken Dören\, Kommunale Entwicklungsmaßnahme\; Ba
DESCRIPTION:Phase: Vergabeergebnis | Beschreibung: Auftrag wurde zugeschlagen | Link: https://ausschreibungsradar.com/ausschreibung/1d56dbca-5567-46ae-8ac3-b33d66f7857c/
URL:https://ausschreibungsradar.com/ausschreibung/1d56dbca-5567-46ae-8ac3-b33d66f7857c/
END:VEVENT
BEGIN:VEVENT
UID:67e6cb2f86009b79@ausschreibungsradar.com
DTSTAMP:20260424T054726Z
DTSTART;VALUE=DATE:20251027
DTEND;VALUE=DATE:20251027
SUMMARY:Zuschlag — Waltrop\, Im Dicken Dören\, Kommunale Entwicklungsmaßnahme\; Ba
DESCRIPTION:Phase: Zuschlag | Beschreibung: Vergabeergebnis — Auftrag wurde erteilt oder Verfahren beendet. | Link: https://ausschreibungsradar.com/ausschreibung/85937faa-fdcb-44fc-bbf7-7f29c3d773bd/
URL:https://ausschreibungsradar.com/ausschreibung/85937faa-fdcb-44fc-bbf7-7f29c3d773bd/
END:VEVENT
END:VCALENDAR
