BEGIN:VCALENDAR
VERSION:2.0
PRODID:-//AusschreibungsRadar//Timeline//DE
CALSCALE:GREGORIAN
METHOD:PUBLISH
X-WR-CALNAME:Projekt Gebäude- und Inventarversicherung für die Gemeinde Senden

X-WR-TIMEZONE:Europe/Berlin
BEGIN:VEVENT
UID:3684e26fec079605@ausschreibungsradar.com
DTSTAMP:20260424T090859Z
DTSTART;VALUE=DATE:20241015
DTEND;VALUE=DATE:20241015
SUMMARY:Angebotsfrist — Gebäude- und Inventarversicherung für die Gemeinde Senden\n
DESCRIPTION:Phase: Ausschreibung | Beschreibung: Angebote werden eingeholt | Link: https://ausschreibungsradar.com/ausschreibung/1d80ee4d-8fc8-47a4-b50d-4b9043b5692e/
URL:https://ausschreibungsradar.com/ausschreibung/1d80ee4d-8fc8-47a4-b50d-4b9043b5692e/
END:VEVENT
BEGIN:VEVENT
UID:8c6f43933bc22205@ausschreibungsradar.com
DTSTAMP:20260424T090859Z
DTSTART;VALUE=DATE:20241211
DTEND;VALUE=DATE:20241211
SUMMARY:Vergabeergebnis — Gebäude- und Inventarversicherung für die Gemeinde Senden\n
DESCRIPTION:Phase: Vergabeergebnis | Beschreibung: Auftrag wurde zugeschlagen | Link: https://ausschreibungsradar.com/ausschreibung/692fa9a9-e06e-425d-a2a5-974b3a118467/ | Auftragnehmer: Provinzial Versicherung A
URL:https://ausschreibungsradar.com/ausschreibung/692fa9a9-e06e-425d-a2a5-974b3a118467/
END:VEVENT
END:VCALENDAR
