BEGIN:VCALENDAR
VERSION:2.0
PRODID:-//AusschreibungsRadar//Timeline//DE
CALSCALE:GREGORIAN
METHOD:PUBLISH
X-WR-CALNAME:Projekt VE 17 Bodenbelag Linoleum_Schulzentrum Heide Ost
X-WR-TIMEZONE:Europe/Berlin
BEGIN:VEVENT
UID:c635fdabf484a010@ausschreibungsradar.com
DTSTAMP:20260424T144039Z
DTSTART;VALUE=DATE:20260428
DTEND;VALUE=DATE:20260428
SUMMARY:Angebotsfrist — VE 17 Bodenbelag Linoleum_Schulzentrum Heide Ost
DESCRIPTION:Phase: Ausschreibung | Beschreibung: Angebote werden eingeholt | Link: https://ausschreibungsradar.com/ausschreibung/1d941a95-840b-4a28-89f3-d6d2e23b66ee/ | Geschätzter Wert: 649132 €
URL:https://ausschreibungsradar.com/ausschreibung/1d941a95-840b-4a28-89f3-d6d2e23b66ee/
END:VEVENT
BEGIN:VEVENT
UID:7484eb842d1e9133@ausschreibungsradar.com
DTSTAMP:20260424T144039Z
DTSTART;VALUE=DATE:20260317
DTEND;VALUE=DATE:20260317
SUMMARY:Ausschreibung — VE 17 Bodenbelag Linoleum_Schulzentrum Heide Ost
DESCRIPTION:Phase: Ausschreibung | Beschreibung: Offizielle Ausschreibung mit Bieterfrist. | Link: https://ausschreibungsradar.com/ausschreibung/dcbc0fdc-6856-4af1-a941-27f99f690d1b/
URL:https://ausschreibungsradar.com/ausschreibung/dcbc0fdc-6856-4af1-a941-27f99f690d1b/
END:VEVENT
END:VCALENDAR
