BEGIN:VCALENDAR
VERSION:2.0
PRODID:-//AusschreibungsRadar//Timeline//DE
CALSCALE:GREGORIAN
METHOD:PUBLISH
X-WR-CALNAME:Projekt Beschaffung und Installation von Hardware am Simpert-Kraemer
X-WR-TIMEZONE:Europe/Berlin
BEGIN:VEVENT
UID:a5d66d89f1518002@ausschreibungsradar.com
DTSTAMP:20260425T211644Z
DTSTART;VALUE=DATE:20240816
DTEND;VALUE=DATE:20240816
SUMMARY:Angebotsfrist — Beschaffung und Installation von Hardware am Simpert-Kraemer
DESCRIPTION:Phase: Ausschreibung | Beschreibung: Angebote werden eingeholt | Link: https://ausschreibungsradar.com/ausschreibung/1dc7ab14-7962-44d3-bd80-9a123af0faff/ | Geschätzter Wert: 147000 €
URL:https://ausschreibungsradar.com/ausschreibung/1dc7ab14-7962-44d3-bd80-9a123af0faff/
END:VEVENT
BEGIN:VEVENT
UID:596777fecce5e023@ausschreibungsradar.com
DTSTAMP:20260425T211644Z
DTSTART;VALUE=DATE:20240709
DTEND;VALUE=DATE:20240709
SUMMARY:Ausschreibung — Beschaffung und Installation von Hardware am Simpert-Kraemer
DESCRIPTION:Phase: Ausschreibung | Beschreibung: Offizielle Ausschreibung mit Bieterfrist. | Link: https://ausschreibungsradar.com/ausschreibung/8af13136-6291-46e4-ae37-e58a12618240/
URL:https://ausschreibungsradar.com/ausschreibung/8af13136-6291-46e4-ae37-e58a12618240/
END:VEVENT
BEGIN:VEVENT
UID:23076fbda33ff7c1@ausschreibungsradar.com
DTSTAMP:20260425T211644Z
DTSTART;VALUE=DATE:20240802
DTEND;VALUE=DATE:20240802
SUMMARY:Ausschreibung — Beschaffung und Installation von Hardware am Simpert-Kraemer
DESCRIPTION:Phase: Ausschreibung | Beschreibung: Offizielle Ausschreibung mit Bieterfrist. | Link: https://ausschreibungsradar.com/ausschreibung/ted-467086-2024/
URL:https://ausschreibungsradar.com/ausschreibung/ted-467086-2024/
END:VEVENT
END:VCALENDAR
