BEGIN:VCALENDAR
VERSION:2.0
PRODID:-//AusschreibungsRadar//Timeline//DE
CALSCALE:GREGORIAN
METHOD:PUBLISH
X-WR-CALNAME:Projekt Heizungsinstallation
X-WR-TIMEZONE:Europe/Berlin
BEGIN:VEVENT
UID:4c25b65cd47faebb@ausschreibungsradar.com
DTSTAMP:20260424T091140Z
DTSTART;VALUE=DATE:20251014
DTEND;VALUE=DATE:20251014
SUMMARY:Angebotsfrist — Heizungsinstallation
DESCRIPTION:Phase: Ausschreibung | Beschreibung: Angebote werden eingeholt | Link: https://ausschreibungsradar.com/ausschreibung/1dcce1a9-4330-4f9c-99db-52b8e1735a2d/
URL:https://ausschreibungsradar.com/ausschreibung/1dcce1a9-4330-4f9c-99db-52b8e1735a2d/
END:VEVENT
BEGIN:VEVENT
UID:3a0902a21b6b2c22@ausschreibungsradar.com
DTSTAMP:20260424T091140Z
DTSTART;VALUE=DATE:20251202
DTEND;VALUE=DATE:20251202
SUMMARY:Vergabeergebnis — Heizungsinstallation
DESCRIPTION:Phase: Vergabeergebnis | Beschreibung: Auftrag wurde zugeschlagen | Link: https://ausschreibungsradar.com/ausschreibung/7d2e5690-cbe9-4e2a-9333-8d869146e1ae/
URL:https://ausschreibungsradar.com/ausschreibung/7d2e5690-cbe9-4e2a-9333-8d869146e1ae/
END:VEVENT
END:VCALENDAR
