BEGIN:VCALENDAR
VERSION:2.0
PRODID:-//AusschreibungsRadar//Timeline//DE
CALSCALE:GREGORIAN
METHOD:PUBLISH
X-WR-CALNAME:Projekt Gestellung von Wachpersonal für die Objektbewachung des Rath
X-WR-TIMEZONE:Europe/Berlin
BEGIN:VEVENT
UID:ef33bcc01643d971@ausschreibungsradar.com
DTSTAMP:20260424T113009Z
DTSTART;VALUE=DATE:20241205
DTEND;VALUE=DATE:20241205
SUMMARY:Angebotsfrist — Gestellung von Wachpersonal für die Objektbewachung des Rath
DESCRIPTION:Phase: Ausschreibung | Beschreibung: Angebote werden eingeholt | Link: https://ausschreibungsradar.com/ausschreibung/086de0df-7555-4d86-81c0-3361b1f13315/ | Geschätzter Wert: 468378 €
URL:https://ausschreibungsradar.com/ausschreibung/086de0df-7555-4d86-81c0-3361b1f13315/
END:VEVENT
BEGIN:VEVENT
UID:cdd55914d5f012bb@ausschreibungsradar.com
DTSTAMP:20260424T113009Z
DTSTART;VALUE=DATE:20250112
DTEND;VALUE=DATE:20250112
SUMMARY:Vergabeergebnis — Gestellung von Wachpersonal für die Objektbewachung des Rath
DESCRIPTION:Phase: Vergabeergebnis | Beschreibung: Auftrag wurde zugeschlagen | Link: https://ausschreibungsradar.com/ausschreibung/1dd225ec-1baf-4b94-b7cc-de6ed539202d/ | Geschätzter Wert: 468378 €
URL:https://ausschreibungsradar.com/ausschreibung/1dd225ec-1baf-4b94-b7cc-de6ed539202d/
END:VEVENT
END:VCALENDAR
