BEGIN:VCALENDAR
VERSION:2.0
PRODID:-//AusschreibungsRadar//Timeline//DE
CALSCALE:GREGORIAN
METHOD:PUBLISH
X-WR-CALNAME:Projekt Korrelativer 3D-Profiler für die KI-basierte Prozessentwickl
X-WR-TIMEZONE:Europe/Berlin
BEGIN:VEVENT
UID:b38e0ceee5502c3d@ausschreibungsradar.com
DTSTAMP:20260425T215208Z
DTSTART;VALUE=DATE:20250728
DTEND;VALUE=DATE:20250728
SUMMARY:Ausschreibung — Korrelativer 3D-Profiler für die KI-basierte Prozessentwickl
DESCRIPTION:Phase: Ausschreibung | Beschreibung: Angebote werden eingeholt | Link: https://ausschreibungsradar.com/ausschreibung/1dece6c5-af86-4c3a-885a-319b152a232a/
URL:https://ausschreibungsradar.com/ausschreibung/1dece6c5-af86-4c3a-885a-319b152a232a/
END:VEVENT
BEGIN:VEVENT
UID:9856950f114fbc79@ausschreibungsradar.com
DTSTAMP:20260425T215208Z
DTSTART;VALUE=DATE:20250728
DTEND;VALUE=DATE:20250728
SUMMARY:Ausschreibung — Korrelativer 3D-Profiler für die KI-basierte Prozessentwickl
DESCRIPTION:Phase: Ausschreibung | Beschreibung: Offizielle Ausschreibung mit Bieterfrist. | Link: https://ausschreibungsradar.com/ausschreibung/8cd5db2b-f217-4e4b-b4d6-a56b4f403dcf/
URL:https://ausschreibungsradar.com/ausschreibung/8cd5db2b-f217-4e4b-b4d6-a56b4f403dcf/
END:VEVENT
BEGIN:VEVENT
UID:762e7370fb2426df@ausschreibungsradar.com
DTSTAMP:20260425T215208Z
DTSTART;VALUE=DATE:20251009
DTEND;VALUE=DATE:20251009
SUMMARY:Vergabeergebnis — Korrelativer 3D-Profiler für die KI-basierte Prozessentwickl
DESCRIPTION:Phase: Vergabeergebnis | Beschreibung: Auftrag wurde zugeschlagen | Link: https://ausschreibungsradar.com/ausschreibung/327b5261-27fe-4375-b6d7-a5d41d2be5c3/ | Geschätzter Wert: 130000 €
URL:https://ausschreibungsradar.com/ausschreibung/327b5261-27fe-4375-b6d7-a5d41d2be5c3/
END:VEVENT
END:VCALENDAR
