BEGIN:VCALENDAR
VERSION:2.0
PRODID:-//AusschreibungsRadar//Timeline//DE
CALSCALE:GREGORIAN
METHOD:PUBLISH
X-WR-CALNAME:Projekt 62EU/25 TUFA - Estrich- und Sichtestricharbeiten
X-WR-TIMEZONE:Europe/Berlin
BEGIN:VEVENT
UID:1c6b6d068fddd82c@ausschreibungsradar.com
DTSTAMP:20260424T211901Z
DTSTART;VALUE=DATE:20250904
DTEND;VALUE=DATE:20250904
SUMMARY:Ausschreibung — 62EU/25 TUFA - Estrich- und Sichtestricharbeiten
DESCRIPTION:Phase: Ausschreibung | Beschreibung: Angebote werden eingeholt | Link: https://ausschreibungsradar.com/ausschreibung/1e507732-53c0-43a2-8485-9f1fd0d9d77f/
URL:https://ausschreibungsradar.com/ausschreibung/1e507732-53c0-43a2-8485-9f1fd0d9d77f/
END:VEVENT
BEGIN:VEVENT
UID:0976e6cf9c379408@ausschreibungsradar.com
DTSTAMP:20260424T211901Z
DTSTART;VALUE=DATE:20260106
DTEND;VALUE=DATE:20260106
SUMMARY:Vergabeergebnis — 62EU/25 TUFA - Estrich- und Sichtestricharbeiten
DESCRIPTION:Phase: Vergabeergebnis | Beschreibung: Auftrag wurde zugeschlagen | Link: https://ausschreibungsradar.com/ausschreibung/bee02a09-7ee5-4953-b46d-52586e4536b1/
URL:https://ausschreibungsradar.com/ausschreibung/bee02a09-7ee5-4953-b46d-52586e4536b1/
END:VEVENT
END:VCALENDAR
