BEGIN:VCALENDAR
VERSION:2.0
PRODID:-//AusschreibungsRadar//Timeline//DE
CALSCALE:GREGORIAN
METHOD:PUBLISH
X-WR-CALNAME:Projekt Vergabe von Leistungen im Zusammenhang mit einem Security Op
X-WR-TIMEZONE:Europe/Berlin
BEGIN:VEVENT
UID:501e59bdef8034f2@ausschreibungsradar.com
DTSTAMP:20260425T233547Z
DTSTART;VALUE=DATE:20251218
DTEND;VALUE=DATE:20251218
SUMMARY:Ausschreibung — Vergabe von Leistungen im Zusammenhang mit einem Security Op
DESCRIPTION:Phase: Ausschreibung | Beschreibung: Angebote werden eingeholt | Link: https://ausschreibungsradar.com/ausschreibung/1e613404-ecee-4410-a7c8-8d51cbdf0099/
URL:https://ausschreibungsradar.com/ausschreibung/1e613404-ecee-4410-a7c8-8d51cbdf0099/
END:VEVENT
BEGIN:VEVENT
UID:3e3bb0bf62e7dd2e@ausschreibungsradar.com
DTSTAMP:20260425T233547Z
DTSTART;VALUE=DATE:20251218
DTEND;VALUE=DATE:20251218
SUMMARY:Ausschreibung — Vergabe von Leistungen im Zusammenhang mit einem Security Op
DESCRIPTION:Phase: Ausschreibung | Beschreibung: Offizielle Ausschreibung mit Bieterfrist. | Link: https://ausschreibungsradar.com/ausschreibung/4f0a3332-9123-4a10-83cc-61b0a6077d76/
URL:https://ausschreibungsradar.com/ausschreibung/4f0a3332-9123-4a10-83cc-61b0a6077d76/
END:VEVENT
BEGIN:VEVENT
UID:6434901dd6d8c9c4@ausschreibungsradar.com
DTSTAMP:20260425T233547Z
DTSTART;VALUE=DATE:20251218
DTEND;VALUE=DATE:20251218
SUMMARY:Ausschreibung — Vergabe von Leistungen im Zusammenhang mit einem Security Op
DESCRIPTION:Phase: Ausschreibung | Beschreibung: Offizielle Ausschreibung mit Bieterfrist. | Link: https://ausschreibungsradar.com/ausschreibung/998395d3-d00b-429a-9cb6-7e334e411f80/
URL:https://ausschreibungsradar.com/ausschreibung/998395d3-d00b-429a-9cb6-7e334e411f80/
END:VEVENT
END:VCALENDAR
