BEGIN:VCALENDAR
VERSION:2.0
PRODID:-//AusschreibungsRadar//Timeline//DE
CALSCALE:GREGORIAN
METHOD:PUBLISH
X-WR-CALNAME:Projekt Anbindung HB Thiels Hütte im Versorgungsgebiet der VGW Ransb
X-WR-TIMEZONE:Europe/Berlin
BEGIN:VEVENT
UID:17b3b86417ad873d@ausschreibungsradar.com
DTSTAMP:20260425T002426Z
DTSTART;VALUE=DATE:20241120
DTEND;VALUE=DATE:20241120
SUMMARY:Ausschreibung — Anbindung HB Thiels Hütte im Versorgungsgebiet der VGW Ransb
DESCRIPTION:Phase: Ausschreibung | Beschreibung: Angebote werden eingeholt | Link: https://ausschreibungsradar.com/ausschreibung/1e73684a-05c9-477d-b089-987c044b9e4c/
URL:https://ausschreibungsradar.com/ausschreibung/1e73684a-05c9-477d-b089-987c044b9e4c/
END:VEVENT
BEGIN:VEVENT
UID:85840fe470e9eb70@ausschreibungsradar.com
DTSTAMP:20260425T002426Z
DTSTART;VALUE=DATE:20250515
DTEND;VALUE=DATE:20250515
SUMMARY:Vergabeergebnis — Anbindung HB Thiels Hütte im Versorgungsgebiet der VGW Ransb
DESCRIPTION:Phase: Vergabeergebnis | Beschreibung: Auftrag wurde zugeschlagen | Link: https://ausschreibungsradar.com/ausschreibung/7b6eab59-e503-46df-b1b3-6bae1454bf88/
URL:https://ausschreibungsradar.com/ausschreibung/7b6eab59-e503-46df-b1b3-6bae1454bf88/
END:VEVENT
END:VCALENDAR
