BEGIN:VCALENDAR
VERSION:2.0
PRODID:-//AusschreibungsRadar//Timeline//DE
CALSCALE:GREGORIAN
METHOD:PUBLISH
X-WR-CALNAME:Projekt Planungsleistungen Schnellfilteranlage (SFA)
X-WR-TIMEZONE:Europe/Berlin
BEGIN:VEVENT
UID:2a8c917fd000077c@ausschreibungsradar.com
DTSTAMP:20260424T050436Z
DTSTART;VALUE=DATE:20241120
DTEND;VALUE=DATE:20241120
SUMMARY:Ausschreibung — Planungsleistungen Schnellfilteranlage (SFA)
DESCRIPTION:Phase: Ausschreibung | Beschreibung: Angebote werden eingeholt | Link: https://ausschreibungsradar.com/ausschreibung/1ebaa319-bf7f-4799-82c7-7db871d06da7/ | Geschätzter Wert: 2950000 €
URL:https://ausschreibungsradar.com/ausschreibung/1ebaa319-bf7f-4799-82c7-7db871d06da7/
END:VEVENT
BEGIN:VEVENT
UID:653f6c7fa3a1c4cb@ausschreibungsradar.com
DTSTAMP:20260424T050436Z
DTSTART;VALUE=DATE:20260303
DTEND;VALUE=DATE:20260303
SUMMARY:Vergabeergebnis — Planungsleistungen Schnellfilteranlage (SFA)
DESCRIPTION:Phase: Vergabeergebnis | Beschreibung: Vergabeergebnis veröffentlicht | Link: https://ausschreibungsradar.com/ausschreibung/3e12926f-f5bd-4f20-b6cb-daf7283404be/ | Geschätzter Wert: 2950000 €
URL:https://ausschreibungsradar.com/ausschreibung/3e12926f-f5bd-4f20-b6cb-daf7283404be/
END:VEVENT
END:VCALENDAR
