BEGIN:VCALENDAR
VERSION:2.0
PRODID:-//AusschreibungsRadar//Timeline//DE
CALSCALE:GREGORIAN
METHOD:PUBLISH
X-WR-CALNAME:Projekt ABS Berlin - Frankfurt/Oder - Grenze D/PL, PA 16, barrierefr
X-WR-TIMEZONE:Europe/Berlin
BEGIN:VEVENT
UID:d0ce7e8f544726c2@ausschreibungsradar.com
DTSTAMP:20260424T212453Z
DTSTART;VALUE=DATE:20231208
DTEND;VALUE=DATE:20231208
SUMMARY:Vergabeergebnis — ABS Berlin - Frankfurt/Oder - Grenze D/PL\, PA 16\, barrierefr
DESCRIPTION:Phase: Vergabeergebnis | Beschreibung: Auftrag wurde zugeschlagen | Link: https://ausschreibungsradar.com/ausschreibung/1e3deaad-9d0e-45ec-8e4d-4b513eede306/ | Geschätzter Wert: 12310000 €
URL:https://ausschreibungsradar.com/ausschreibung/1e3deaad-9d0e-45ec-8e4d-4b513eede306/
END:VEVENT
BEGIN:VEVENT
UID:fdd7daa336de44d0@ausschreibungsradar.com
DTSTAMP:20260424T212453Z
DTSTART;VALUE=DATE:20260218
DTEND;VALUE=DATE:20260218
SUMMARY:Vertragsmodifikation — ABS Berlin - Frankfurt/Oder - Grenze D/PL\, PA 16\, barrierefr
DESCRIPTION:Phase: Vertragsmodifikation | Beschreibung: Änderung am bestehenden Vertrag nach Zuschlag. | Link: https://ausschreibungsradar.com/ausschreibung/f10ba708-0844-4829-832b-86efa9eaa5e1/
URL:https://ausschreibungsradar.com/ausschreibung/f10ba708-0844-4829-832b-86efa9eaa5e1/
END:VEVENT
BEGIN:VEVENT
UID:f8dd09dd0316f9c9@ausschreibungsradar.com
DTSTAMP:20260424T212453Z
DTSTART;VALUE=DATE:20260219
DTEND;VALUE=DATE:20260219
SUMMARY:Vertragsmodifikation — ABS Berlin - Frankfurt/Oder - Grenze D/PL\, PA 16\, barrierefr
DESCRIPTION:Phase: Vertragsmodifikation | Beschreibung: Änderung am bestehenden Vertrag nach Zuschlag. | Link: https://ausschreibungsradar.com/ausschreibung/26b03930-6d56-4de2-8e58-23192a029b54/
URL:https://ausschreibungsradar.com/ausschreibung/26b03930-6d56-4de2-8e58-23192a029b54/
END:VEVENT
BEGIN:VEVENT
UID:5f8fa7035ae4602c@ausschreibungsradar.com
DTSTAMP:20260424T212453Z
DTSTART;VALUE=DATE:20260326
DTEND;VALUE=DATE:20260326
SUMMARY:Vertragsmodifikation — ABS Berlin - Frankfurt/Oder - Grenze D/PL\, PA 16\, barrierefr
DESCRIPTION:Phase: Vertragsmodifikation | Beschreibung: Änderung am bestehenden Vertrag nach Zuschlag. | Link: https://ausschreibungsradar.com/ausschreibung/8de7ce53-d250-486a-ab6b-b5177bddc014/
URL:https://ausschreibungsradar.com/ausschreibung/8de7ce53-d250-486a-ab6b-b5177bddc014/
END:VEVENT
BEGIN:VEVENT
UID:b088cce49b83909c@ausschreibungsradar.com
DTSTAMP:20260424T212453Z
DTSTART;VALUE=DATE:20260402
DTEND;VALUE=DATE:20260402
SUMMARY:Vertragsmodifikation — ABS Berlin - Frankfurt/Oder - Grenze D/PL\, PA 16\, barrierefr
DESCRIPTION:Phase: Vertragsmodifikation | Beschreibung: Änderung am bestehenden Vertrag nach Zuschlag. | Link: https://ausschreibungsradar.com/ausschreibung/23d2aba5-dc3f-4e53-863f-213dc2230675/
URL:https://ausschreibungsradar.com/ausschreibung/23d2aba5-dc3f-4e53-863f-213dc2230675/
END:VEVENT
BEGIN:VEVENT
UID:ac8728717d341fe6@ausschreibungsradar.com
DTSTAMP:20260424T212453Z
DTSTART;VALUE=DATE:20260421
DTEND;VALUE=DATE:20260421
SUMMARY:Vertragsänderung — ABS Berlin - Frankfurt/Oder - Grenze D/PL\, PA 16\, barrierefr
DESCRIPTION:Phase: Vertragsänderung | Beschreibung: Zusätzliche Lieferungen/Leistungen beauftragt | Link: https://ausschreibungsradar.com/ausschreibung/1f01fc99-4b19-49c2-ab7e-f89593c73ccd/
URL:https://ausschreibungsradar.com/ausschreibung/1f01fc99-4b19-49c2-ab7e-f89593c73ccd/
END:VEVENT
BEGIN:VEVENT
UID:18788307b74064af@ausschreibungsradar.com
DTSTAMP:20260424T212453Z
DTSTART;VALUE=DATE:20260421
DTEND;VALUE=DATE:20260421
SUMMARY:Vertragsmodifikation — ABS Berlin - Frankfurt/Oder - Grenze D/PL\, PA 16\, barrierefr
DESCRIPTION:Phase: Vertragsmodifikation | Beschreibung: Änderung am bestehenden Vertrag nach Zuschlag. | Link: https://ausschreibungsradar.com/ausschreibung/69d23380-858c-4e18-a893-999b8e2bc936/
URL:https://ausschreibungsradar.com/ausschreibung/69d23380-858c-4e18-a893-999b8e2bc936/
END:VEVENT
END:VCALENDAR
