BEGIN:VCALENDAR
VERSION:2.0
PRODID:-//AusschreibungsRadar//Timeline//DE
CALSCALE:GREGORIAN
METHOD:PUBLISH
X-WR-CALNAME:Projekt Stromausschreibung Abwasserzweckverband "Aller-Ohre" 2026/20
X-WR-TIMEZONE:Europe/Berlin
BEGIN:VEVENT
UID:d7ad2d59702a3df2@ausschreibungsradar.com
DTSTAMP:20260424T063024Z
DTSTART;VALUE=DATE:20250619
DTEND;VALUE=DATE:20250619
SUMMARY:Ausschreibung — Stromausschreibung Abwasserzweckverband "Aller-Ohre" 2026/20
DESCRIPTION:Phase: Ausschreibung | Beschreibung: Angebote werden eingeholt | Link: https://ausschreibungsradar.com/ausschreibung/1f231e79-edda-4da6-bf15-6be846192ba2/
URL:https://ausschreibungsradar.com/ausschreibung/1f231e79-edda-4da6-bf15-6be846192ba2/
END:VEVENT
BEGIN:VEVENT
UID:a95203b7653b8ca5@ausschreibungsradar.com
DTSTAMP:20260424T063024Z
DTSTART;VALUE=DATE:20250923
DTEND;VALUE=DATE:20250923
SUMMARY:Vergabeergebnis — Stromausschreibung Abwasserzweckverband "Aller-Ohre" 2026/20
DESCRIPTION:Phase: Vergabeergebnis | Beschreibung: Auftrag wurde zugeschlagen | Link: https://ausschreibungsradar.com/ausschreibung/3fcb9da7-3f60-4f65-8aa0-5d476f241832/
URL:https://ausschreibungsradar.com/ausschreibung/3fcb9da7-3f60-4f65-8aa0-5d476f241832/
END:VEVENT
END:VCALENDAR
