BEGIN:VCALENDAR
VERSION:2.0
PRODID:-//AusschreibungsRadar//Timeline//DE
CALSCALE:GREGORIAN
METHOD:PUBLISH
X-WR-CALNAME:Projekt Erneuerung Lagunenerlebnisbad - Trennwandsytem und Schränke
X-WR-TIMEZONE:Europe/Berlin
BEGIN:VEVENT
UID:743fbd7b69f6b958@ausschreibungsradar.com
DTSTAMP:20260426T001031Z
DTSTART;VALUE=DATE:20240527
DTEND;VALUE=DATE:20240527
SUMMARY:Angebotsfrist — Erneuerung Lagunenerlebnisbad - Trennwandsytem und Schränke
DESCRIPTION:Phase: Ausschreibung | Beschreibung: Angebote werden eingeholt | Link: https://ausschreibungsradar.com/ausschreibung/21f0719c-19b9-40e9-b867-cdc246aef50a/ | Geschätzter Wert: 240000 €
URL:https://ausschreibungsradar.com/ausschreibung/21f0719c-19b9-40e9-b867-cdc246aef50a/
END:VEVENT
BEGIN:VEVENT
UID:7d0ccbfd0248d7ec@ausschreibungsradar.com
DTSTAMP:20260426T001031Z
DTSTART;VALUE=DATE:20240626
DTEND;VALUE=DATE:20240626
SUMMARY:Vergabeergebnis — Erneuerung Lagunenerlebnisbad - Trennwandsytem und Schränke
DESCRIPTION:Phase: Vergabeergebnis | Beschreibung: Auftrag wurde zugeschlagen | Link: https://ausschreibungsradar.com/ausschreibung/1f28d4a4-4b3a-4a38-9ed1-787bd8584ed6/ | Geschätzter Wert: 240000 €
URL:https://ausschreibungsradar.com/ausschreibung/1f28d4a4-4b3a-4a38-9ed1-787bd8584ed6/
END:VEVENT
END:VCALENDAR
