BEGIN:VCALENDAR
VERSION:2.0
PRODID:-//AusschreibungsRadar//Timeline//DE
CALSCALE:GREGORIAN
METHOD:PUBLISH
X-WR-CALNAME:Projekt BERNATURA Struobstkompetenzzentrum Burgbernheim
Serienmöblie
X-WR-TIMEZONE:Europe/Berlin
BEGIN:VEVENT
UID:8e810460524e4a32@ausschreibungsradar.com
DTSTAMP:20260425T220918Z
DTSTART;VALUE=DATE:20240703
DTEND;VALUE=DATE:20240703
SUMMARY:Angebotsfrist — BERNATURA Struobstkompetenzzentrum Burgbernheim\nSerienmöblie
DESCRIPTION:Phase: Ausschreibung | Beschreibung: Angebote werden eingeholt | Link: https://ausschreibungsradar.com/ausschreibung/1f757307-e032-46c7-b073-79f3945692c9/ | Geschätzter Wert: 268500 €
URL:https://ausschreibungsradar.com/ausschreibung/1f757307-e032-46c7-b073-79f3945692c9/
END:VEVENT
BEGIN:VEVENT
UID:18d9d796abc864db@ausschreibungsradar.com
DTSTAMP:20260425T220918Z
DTSTART;VALUE=DATE:20240527
DTEND;VALUE=DATE:20240527
SUMMARY:Ausschreibung — BERNATURA Struobstkompetenzzentrum Burgbernheim\nSerienmöblie
DESCRIPTION:Phase: Ausschreibung | Beschreibung: Offizielle Ausschreibung mit Bieterfrist. | Link: https://ausschreibungsradar.com/ausschreibung/ted-308863-2024/
URL:https://ausschreibungsradar.com/ausschreibung/ted-308863-2024/
END:VEVENT
BEGIN:VEVENT
UID:ca8898f2481c7344@ausschreibungsradar.com
DTSTAMP:20260425T220918Z
DTSTART;VALUE=DATE:20240802
DTEND;VALUE=DATE:20240802
SUMMARY:Vergabeergebnis — BERNATURA Struobstkompetenzzentrum Burgbernheim\nSerienmöblie
DESCRIPTION:Phase: Vergabeergebnis | Beschreibung: Auftrag wurde zugeschlagen | Link: https://ausschreibungsradar.com/ausschreibung/07107b32-4f68-4b61-b8ee-a5aa495dfe3b/ | Auftragnehmer: Schmidt GmbH\nSystemhaus 
URL:https://ausschreibungsradar.com/ausschreibung/07107b32-4f68-4b61-b8ee-a5aa495dfe3b/
END:VEVENT
END:VCALENDAR
