BEGIN:VCALENDAR
VERSION:2.0
PRODID:-//AusschreibungsRadar//Timeline//DE
CALSCALE:GREGORIAN
METHOD:PUBLISH
X-WR-CALNAME:Projekt Denkmalgerechte Herrichtung des Stadtschlosses (S40) Los 029
X-WR-TIMEZONE:Europe/Berlin
BEGIN:VEVENT
UID:ca601059437868e2@ausschreibungsradar.com
DTSTAMP:20260425T221345Z
DTSTART;VALUE=DATE:20231101
DTEND;VALUE=DATE:20231101
SUMMARY:Angebotsfrist — Denkmalgerechte Herrichtung des Stadtschlosses (S40) Los 029
DESCRIPTION:Phase: Ausschreibung | Beschreibung: Angebote werden eingeholt | Link: https://ausschreibungsradar.com/ausschreibung/37916478-ea09-4223-9a8c-a7ed4b1abe9c/ | Geschätzter Wert: 300000 €
URL:https://ausschreibungsradar.com/ausschreibung/37916478-ea09-4223-9a8c-a7ed4b1abe9c/
END:VEVENT
BEGIN:VEVENT
UID:a37f02543f532411@ausschreibungsradar.com
DTSTAMP:20260425T221345Z
DTSTART;VALUE=DATE:20231113
DTEND;VALUE=DATE:20231113
SUMMARY:Vergabeergebnis — Denkmalgerechte Herrichtung des Stadtschlosses (S40) Los 029
DESCRIPTION:Phase: Vergabeergebnis | Beschreibung: Sonstige Gründe | Link: https://ausschreibungsradar.com/ausschreibung/1f76129d-3093-4b74-a24c-e9f5611c1267/ | Geschätzter Wert: 300000 €
URL:https://ausschreibungsradar.com/ausschreibung/1f76129d-3093-4b74-a24c-e9f5611c1267/
END:VEVENT
END:VCALENDAR
