BEGIN:VCALENDAR
VERSION:2.0
PRODID:-//AusschreibungsRadar//Timeline//DE
CALSCALE:GREGORIAN
METHOD:PUBLISH
X-WR-CALNAME:Projekt Umbau und Sanierung BBS I Johannes-Selenka - Sanierung Daten
X-WR-TIMEZONE:Europe/Berlin
BEGIN:VEVENT
UID:1bf6a97e00951d17@ausschreibungsradar.com
DTSTAMP:20260424T195931Z
DTSTART;VALUE=DATE:20251124
DTEND;VALUE=DATE:20251124
SUMMARY:Angebotsfrist — Umbau und Sanierung BBS I Johannes-Selenka - Sanierung Daten
DESCRIPTION:Phase: Ausschreibung | Beschreibung: Angebote werden eingeholt | Link: https://ausschreibungsradar.com/ausschreibung/1536adf5-bdf3-4cfa-8573-594efdb42da4/
URL:https://ausschreibungsradar.com/ausschreibung/1536adf5-bdf3-4cfa-8573-594efdb42da4/
END:VEVENT
BEGIN:VEVENT
UID:c11969743bc356ad@ausschreibungsradar.com
DTSTAMP:20260424T195931Z
DTSTART;VALUE=DATE:20251217
DTEND;VALUE=DATE:20251217
SUMMARY:Vergabeergebnis — Umbau und Sanierung BBS I Johannes-Selenka - Sanierung Daten
DESCRIPTION:Phase: Vergabeergebnis | Beschreibung: Auftrag wurde zugeschlagen | Link: https://ausschreibungsradar.com/ausschreibung/1f80ae7d-8d12-4993-879a-cc66633d6029/
URL:https://ausschreibungsradar.com/ausschreibung/1f80ae7d-8d12-4993-879a-cc66633d6029/
END:VEVENT
END:VCALENDAR
