BEGIN:VCALENDAR
VERSION:2.0
PRODID:-//AusschreibungsRadar//Timeline//DE
CALSCALE:GREGORIAN
METHOD:PUBLISH
X-WR-CALNAME:Projekt Fachplanungsleistung Technische Gebäudeausrüstung (TGA) Elek
X-WR-TIMEZONE:Europe/Berlin
BEGIN:VEVENT
UID:a0eb873a9f6a587f@ausschreibungsradar.com
DTSTAMP:20260425T013255Z
DTSTART;VALUE=DATE:20250207
DTEND;VALUE=DATE:20250207
SUMMARY:Angebotsfrist — Fachplanungsleistung Technische Gebäudeausrüstung (TGA) Elek
DESCRIPTION:Phase: Ausschreibung | Beschreibung: Angebote werden eingeholt | Link: https://ausschreibungsradar.com/ausschreibung/1fea8d27-a273-44c0-9b2c-9025f3cb06cf/
URL:https://ausschreibungsradar.com/ausschreibung/1fea8d27-a273-44c0-9b2c-9025f3cb06cf/
END:VEVENT
BEGIN:VEVENT
UID:36bc6eb911bf4291@ausschreibungsradar.com
DTSTAMP:20260425T013255Z
DTSTART;VALUE=DATE:20250107
DTEND;VALUE=DATE:20250107
SUMMARY:Ausschreibung — Fachplanungsleistung Technische Gebäudeausrüstung (TGA) Elek
DESCRIPTION:Phase: Ausschreibung | Beschreibung: Offizielle Ausschreibung mit Bieterfrist. | Link: https://ausschreibungsradar.com/ausschreibung/b2b7732c-ff72-4687-b91c-92ef3be22991/
URL:https://ausschreibungsradar.com/ausschreibung/b2b7732c-ff72-4687-b91c-92ef3be22991/
END:VEVENT
BEGIN:VEVENT
UID:211444b20570df83@ausschreibungsradar.com
DTSTAMP:20260425T013255Z
DTSTART;VALUE=DATE:20250409
DTEND;VALUE=DATE:20250409
SUMMARY:Vergabeergebnis — Fachplanungsleistung Technische Gebäudeausrüstung (TGA) Elek
DESCRIPTION:Phase: Vergabeergebnis | Beschreibung: Auftrag wurde zugeschlagen | Link: https://ausschreibungsradar.com/ausschreibung/fc6a56d6-0a8f-46ab-b204-84a4627268ed/ | Geschätzter Wert: 337131 €
URL:https://ausschreibungsradar.com/ausschreibung/fc6a56d6-0a8f-46ab-b204-84a4627268ed/
END:VEVENT
END:VCALENDAR
