BEGIN:VCALENDAR
VERSION:2.0
PRODID:-//AusschreibungsRadar//Timeline//DE
CALSCALE:GREGORIAN
METHOD:PUBLISH
X-WR-CALNAME:Projekt REZ Bayern_45ind_AA München
X-WR-TIMEZONE:Europe/Berlin
BEGIN:VEVENT
UID:a7b77d5ffe424c5e@ausschreibungsradar.com
DTSTAMP:20260426T005636Z
DTSTART;VALUE=DATE:20250805
DTEND;VALUE=DATE:20250805
SUMMARY:Ausschreibung — REZ Bayern_45ind_AA München
DESCRIPTION:Phase: Ausschreibung | Beschreibung: Angebote werden eingeholt | Link: https://ausschreibungsradar.com/ausschreibung/07b787b1-96a8-4e9c-9500-fa1102649fa3/
URL:https://ausschreibungsradar.com/ausschreibung/07b787b1-96a8-4e9c-9500-fa1102649fa3/
END:VEVENT
BEGIN:VEVENT
UID:95271ae918440a1e@ausschreibungsradar.com
DTSTAMP:20260426T005636Z
DTSTART;VALUE=DATE:20251029
DTEND;VALUE=DATE:20251029
SUMMARY:Ausschreibung — REZ Bayern_45ind_AA München
DESCRIPTION:Phase: Ausschreibung | Beschreibung: Offizielle Ausschreibung mit Bieterfrist. | Link: https://ausschreibungsradar.com/ausschreibung/0e2fcdb7-2f4b-4422-a239-b2ceea9a7cc1/
URL:https://ausschreibungsradar.com/ausschreibung/0e2fcdb7-2f4b-4422-a239-b2ceea9a7cc1/
END:VEVENT
BEGIN:VEVENT
UID:414b31240ca077e8@ausschreibungsradar.com
DTSTAMP:20260426T005636Z
DTSTART;VALUE=DATE:20251107
DTEND;VALUE=DATE:20251107
SUMMARY:Vergabeergebnis — REZ Bayern_45ind_AA München
DESCRIPTION:Phase: Vergabeergebnis | Beschreibung: Auftrag wurde zugeschlagen | Link: https://ausschreibungsradar.com/ausschreibung/1ff6d5cd-601e-4efb-94b6-2e8cda4e42ca/
URL:https://ausschreibungsradar.com/ausschreibung/1ff6d5cd-601e-4efb-94b6-2e8cda4e42ca/
END:VEVENT
BEGIN:VEVENT
UID:3e79be168fb579c3@ausschreibungsradar.com
DTSTAMP:20260426T005636Z
DTSTART;VALUE=DATE:20251110
DTEND;VALUE=DATE:20251110
SUMMARY:Zuschlag — REZ Bayern_45ind_AA München
DESCRIPTION:Phase: Zuschlag | Beschreibung: Vergabeergebnis — Auftrag wurde erteilt oder Verfahren beendet. | Link: https://ausschreibungsradar.com/ausschreibung/f1a755f1-021a-41a3-a457-6af390906314/
URL:https://ausschreibungsradar.com/ausschreibung/f1a755f1-021a-41a3-a457-6af390906314/
END:VEVENT
END:VCALENDAR
