BEGIN:VCALENDAR
VERSION:2.0
PRODID:-//AusschreibungsRadar//Timeline//DE
CALSCALE:GREGORIAN
METHOD:PUBLISH
X-WR-CALNAME:Projekt Rathausneubau Fachplanung technische Gebäudeausrüstung für d
X-WR-TIMEZONE:Europe/Berlin
BEGIN:VEVENT
UID:db66d608283f16fa@ausschreibungsradar.com
DTSTAMP:20260425T233244Z
DTSTART;VALUE=DATE:20230517
DTEND;VALUE=DATE:20230517
SUMMARY:Ausschreibung — Rathausneubau Fachplanung technische Gebäudeausrüstung für d
DESCRIPTION:Phase: Ausschreibung | Beschreibung: Offizielle Ausschreibung mit Bieterfrist. | Link: https://ausschreibungsradar.com/ausschreibung/20032400/
URL:https://ausschreibungsradar.com/ausschreibung/20032400/
END:VEVENT
BEGIN:VEVENT
UID:5b39570602be5cfd@ausschreibungsradar.com
DTSTAMP:20260425T233244Z
DTSTART;VALUE=DATE:20230517
DTEND;VALUE=DATE:20230517
SUMMARY:Ausschreibung — Rathausneubau Fachplanung technische Gebäudeausrüstung für d
DESCRIPTION:Phase: Ausschreibung | Beschreibung: Offizielle Ausschreibung mit Bieterfrist. | Link: https://ausschreibungsradar.com/ausschreibung/20032388/
URL:https://ausschreibungsradar.com/ausschreibung/20032388/
END:VEVENT
END:VCALENDAR
