BEGIN:VCALENDAR
VERSION:2.0
PRODID:-//AusschreibungsRadar//Timeline//DE
CALSCALE:GREGORIAN
METHOD:PUBLISH
X-WR-CALNAME:Projekt Gemeindewerke Triftern (GWT) - Trinkwasserversorgung Hochbeh
X-WR-TIMEZONE:Europe/Berlin
BEGIN:VEVENT
UID:db59267460a45ffb@ausschreibungsradar.com
DTSTAMP:20260425T143348Z
DTSTART;VALUE=DATE:20230517
DTEND;VALUE=DATE:20230517
SUMMARY:Ausschreibung — Gemeindewerke Triftern (GWT) - Trinkwasserversorgung Hochbeh
DESCRIPTION:Phase: Ausschreibung | Beschreibung: Offizielle Ausschreibung mit Bieterfrist. | Link: https://ausschreibungsradar.com/ausschreibung/20032560/
URL:https://ausschreibungsradar.com/ausschreibung/20032560/
END:VEVENT
BEGIN:VEVENT
UID:3b45c74b7a94eb0f@ausschreibungsradar.com
DTSTAMP:20260425T143348Z
DTSTART;VALUE=DATE:20230517
DTEND;VALUE=DATE:20230517
SUMMARY:Ausschreibung — Gemeindewerke Triftern (GWT) - Trinkwasserversorgung Hochbeh
DESCRIPTION:Phase: Ausschreibung | Beschreibung: Offizielle Ausschreibung mit Bieterfrist. | Link: https://ausschreibungsradar.com/ausschreibung/20032564/
URL:https://ausschreibungsradar.com/ausschreibung/20032564/
END:VEVENT
END:VCALENDAR
