BEGIN:VCALENDAR
VERSION:2.0
PRODID:-//AusschreibungsRadar//Timeline//DE
CALSCALE:GREGORIAN
METHOD:PUBLISH
X-WR-CALNAME:Projekt Neubau einer 2-Feld-Sporthalle mit Gymnastikhalle in Badberg
X-WR-TIMEZONE:Europe/Berlin
BEGIN:VEVENT
UID:8ebdecc2ae4abbb4@ausschreibungsradar.com
DTSTAMP:20260424T191904Z
DTSTART;VALUE=DATE:20230621
DTEND;VALUE=DATE:20230621
SUMMARY:Ausschreibung — Neubau einer 2-Feld-Sporthalle mit Gymnastikhalle in Badberg
DESCRIPTION:Phase: Ausschreibung | Beschreibung: Offizielle Ausschreibung mit Bieterfrist. | Link: https://ausschreibungsradar.com/ausschreibung/20218902/
URL:https://ausschreibungsradar.com/ausschreibung/20218902/
END:VEVENT
BEGIN:VEVENT
UID:cf6982d7eaac1faa@ausschreibungsradar.com
DTSTAMP:20260424T191904Z
DTSTART;VALUE=DATE:20230622
DTEND;VALUE=DATE:20230622
SUMMARY:Ausschreibung — Neubau einer 2-Feld-Sporthalle mit Gymnastikhalle in Badberg
DESCRIPTION:Phase: Ausschreibung | Beschreibung: Offizielle Ausschreibung mit Bieterfrist. | Link: https://ausschreibungsradar.com/ausschreibung/20227154/
URL:https://ausschreibungsradar.com/ausschreibung/20227154/
END:VEVENT
END:VCALENDAR
