BEGIN:VCALENDAR
VERSION:2.0
PRODID:-//AusschreibungsRadar//Timeline//DE
CALSCALE:GREGORIAN
METHOD:PUBLISH
X-WR-CALNAME:Projekt Auswahlverfahren für Netzbetreiber nach BayGibitR - Wirtscha
X-WR-TIMEZONE:Europe/Berlin
BEGIN:VEVENT
UID:26b9cf9cd908808a@ausschreibungsradar.com
DTSTAMP:20260425T225145Z
DTSTART;VALUE=DATE:20230622
DTEND;VALUE=DATE:20230622
SUMMARY:Ausschreibung — Auswahlverfahren für Netzbetreiber nach BayGibitR - Wirtscha
DESCRIPTION:Phase: Ausschreibung | Beschreibung: Offizielle Ausschreibung mit Bieterfrist. | Link: https://ausschreibungsradar.com/ausschreibung/20229978/
URL:https://ausschreibungsradar.com/ausschreibung/20229978/
END:VEVENT
BEGIN:VEVENT
UID:9a89e41cafcfd059@ausschreibungsradar.com
DTSTAMP:20260425T225145Z
DTSTART;VALUE=DATE:20230629
DTEND;VALUE=DATE:20230629
SUMMARY:Ausschreibung — Auswahlverfahren für Netzbetreiber nach BayGibitR - Wirtscha
DESCRIPTION:Phase: Ausschreibung | Beschreibung: Offizielle Ausschreibung mit Bieterfrist. | Link: https://ausschreibungsradar.com/ausschreibung/20270674/
URL:https://ausschreibungsradar.com/ausschreibung/20270674/
END:VEVENT
END:VCALENDAR
