BEGIN:VCALENDAR
VERSION:2.0
PRODID:-//AusschreibungsRadar//Timeline//DE
CALSCALE:GREGORIAN
METHOD:PUBLISH
X-WR-CALNAME:Projekt Gemeindewerke Triftern (GWT) - Trinkwasserversorgung Hochbeh
X-WR-TIMEZONE:Europe/Berlin
BEGIN:VEVENT
UID:d45ab23ea2e0c97d@ausschreibungsradar.com
DTSTAMP:20260425T143423Z
DTSTART;VALUE=DATE:20230628
DTEND;VALUE=DATE:20230628
SUMMARY:Zuschlag — Gemeindewerke Triftern (GWT) - Trinkwasserversorgung Hochbeh
DESCRIPTION:Phase: Zuschlag | Beschreibung: Vergabeergebnis — Auftrag wurde erteilt oder Verfahren beendet. | Link: https://ausschreibungsradar.com/ausschreibung/20261902/
URL:https://ausschreibungsradar.com/ausschreibung/20261902/
END:VEVENT
BEGIN:VEVENT
UID:7f06fd1294772bd8@ausschreibungsradar.com
DTSTAMP:20260425T143423Z
DTSTART;VALUE=DATE:20230628
DTEND;VALUE=DATE:20230628
SUMMARY:Zuschlag — Gemeindewerke Triftern (GWT) - Trinkwasserversorgung Hochbeh
DESCRIPTION:Phase: Zuschlag | Beschreibung: Vergabeergebnis — Auftrag wurde erteilt oder Verfahren beendet. | Link: https://ausschreibungsradar.com/ausschreibung/20261906/
URL:https://ausschreibungsradar.com/ausschreibung/20261906/
END:VEVENT
END:VCALENDAR
