BEGIN:VCALENDAR
VERSION:2.0
PRODID:-//AusschreibungsRadar//Timeline//DE
CALSCALE:GREGORIAN
METHOD:PUBLISH
X-WR-CALNAME:Projekt Digitalpakt KGS Julius Spriestersbach/ GGS Daniel Schürmann
X-WR-TIMEZONE:Europe/Berlin
BEGIN:VEVENT
UID:29114132e6cbc7b5@ausschreibungsradar.com
DTSTAMP:20260425T011427Z
DTSTART;VALUE=DATE:20250519
DTEND;VALUE=DATE:20250519
SUMMARY:Angebotsfrist — Digitalpakt KGS Julius Spriestersbach/ GGS Daniel Schürmann
DESCRIPTION:Phase: Ausschreibung | Beschreibung: Angebote werden eingeholt | Link: https://ausschreibungsradar.com/ausschreibung/239f3de7-bf80-4422-9d30-30d33a26136b/
URL:https://ausschreibungsradar.com/ausschreibung/239f3de7-bf80-4422-9d30-30d33a26136b/
END:VEVENT
BEGIN:VEVENT
UID:5ef9268719ce3188@ausschreibungsradar.com
DTSTAMP:20260425T011427Z
DTSTART;VALUE=DATE:20250627
DTEND;VALUE=DATE:20250627
SUMMARY:Vergabeergebnis — Digitalpakt KGS Julius Spriestersbach/ GGS Daniel Schürmann
DESCRIPTION:Phase: Vergabeergebnis | Beschreibung: Auftrag wurde zugeschlagen | Link: https://ausschreibungsradar.com/ausschreibung/2050da9e-26b7-4882-9389-043157cacf8a/
URL:https://ausschreibungsradar.com/ausschreibung/2050da9e-26b7-4882-9389-043157cacf8a/
END:VEVENT
END:VCALENDAR
