BEGIN:VCALENDAR
VERSION:2.0
PRODID:-//AusschreibungsRadar//Timeline//DE
CALSCALE:GREGORIAN
METHOD:PUBLISH
X-WR-CALNAME:Projekt Erweiterung Kohlheckschule Wiesbaden
X-WR-TIMEZONE:Europe/Berlin
BEGIN:VEVENT
UID:5339daf08679262a@ausschreibungsradar.com
DTSTAMP:20260425T023911Z
DTSTART;VALUE=DATE:20260508
DTEND;VALUE=DATE:20260508
SUMMARY:Angebotsfrist — Erweiterung Kohlheckschule Wiesbaden
DESCRIPTION:Phase: Ausschreibung | Beschreibung: Angebote werden eingeholt | Link: https://ausschreibungsradar.com/ausschreibung/2051cd71-68e2-4ac8-bf61-17831808bd83/
URL:https://ausschreibungsradar.com/ausschreibung/2051cd71-68e2-4ac8-bf61-17831808bd83/
END:VEVENT
END:VCALENDAR
