BEGIN:VCALENDAR
VERSION:2.0
PRODID:-//AusschreibungsRadar//Timeline//DE
CALSCALE:GREGORIAN
METHOD:PUBLISH
X-WR-CALNAME:Projekt Sanierung Festhalle Güntersleben - Dachdeckerarbeiten
X-WR-TIMEZONE:Europe/Berlin
BEGIN:VEVENT
UID:4ace7b4a46d27b72@ausschreibungsradar.com
DTSTAMP:20260425T102221Z
DTSTART;VALUE=DATE:20230726
DTEND;VALUE=DATE:20230726
SUMMARY:Ausschreibung — Sanierung Festhalle Güntersleben - Dachdeckerarbeiten
DESCRIPTION:Phase: Ausschreibung | Beschreibung: Offizielle Ausschreibung mit Bieterfrist. | Link: https://ausschreibungsradar.com/ausschreibung/20572210/
URL:https://ausschreibungsradar.com/ausschreibung/20572210/
END:VEVENT
BEGIN:VEVENT
UID:811126514db3b060@ausschreibungsradar.com
DTSTAMP:20260425T102221Z
DTSTART;VALUE=DATE:20230726
DTEND;VALUE=DATE:20230726
SUMMARY:Ausschreibung — Sanierung Festhalle Güntersleben - Dachdeckerarbeiten
DESCRIPTION:Phase: Ausschreibung | Beschreibung: Offizielle Ausschreibung mit Bieterfrist. | Link: https://ausschreibungsradar.com/ausschreibung/20572194/
URL:https://ausschreibungsradar.com/ausschreibung/20572194/
END:VEVENT
END:VCALENDAR
