BEGIN:VCALENDAR
VERSION:2.0
PRODID:-//AusschreibungsRadar//Timeline//DE
CALSCALE:GREGORIAN
METHOD:PUBLISH
X-WR-CALNAME:Projekt Neubau Kita Im alten Dorfe in Bersenbrück
X-WR-TIMEZONE:Europe/Berlin
BEGIN:VEVENT
UID:3ce1593c2dba817f@ausschreibungsradar.com
DTSTAMP:20260426T035954Z
DTSTART;VALUE=DATE:20230817
DTEND;VALUE=DATE:20230817
SUMMARY:Ausschreibung — Neubau Kita Im alten Dorfe in Bersenbrück
DESCRIPTION:Phase: Ausschreibung | Beschreibung: Offizielle Ausschreibung mit Bieterfrist. | Link: https://ausschreibungsradar.com/ausschreibung/20701368/
URL:https://ausschreibungsradar.com/ausschreibung/20701368/
END:VEVENT
BEGIN:VEVENT
UID:9564d5ec096d8e6c@ausschreibungsradar.com
DTSTAMP:20260426T035954Z
DTSTART;VALUE=DATE:20230817
DTEND;VALUE=DATE:20230817
SUMMARY:Ausschreibung — Neubau Kita Im alten Dorfe in Bersenbrück
DESCRIPTION:Phase: Ausschreibung | Beschreibung: Offizielle Ausschreibung mit Bieterfrist. | Link: https://ausschreibungsradar.com/ausschreibung/20701376/
URL:https://ausschreibungsradar.com/ausschreibung/20701376/
END:VEVENT
END:VCALENDAR
