BEGIN:VCALENDAR
VERSION:2.0
PRODID:-//AusschreibungsRadar//Timeline//DE
CALSCALE:GREGORIAN
METHOD:PUBLISH
X-WR-CALNAME:Projekt Caspar-Voght-Schule; Heizungstechnik
X-WR-TIMEZONE:Europe/Berlin
BEGIN:VEVENT
UID:e4948fa4b277f864@ausschreibungsradar.com
DTSTAMP:20260424T033237Z
DTSTART;VALUE=DATE:20230804
DTEND;VALUE=DATE:20230804
SUMMARY:Ausschreibung — Caspar-Voght-Schule\; Heizungstechnik
DESCRIPTION:Phase: Ausschreibung | Beschreibung: Offizielle Ausschreibung mit Bieterfrist. | Link: https://ausschreibungsradar.com/ausschreibung/20634086/
URL:https://ausschreibungsradar.com/ausschreibung/20634086/
END:VEVENT
BEGIN:VEVENT
UID:5b8cdc953c74a742@ausschreibungsradar.com
DTSTAMP:20260424T033237Z
DTSTART;VALUE=DATE:20230823
DTEND;VALUE=DATE:20230823
SUMMARY:Ausschreibung — Caspar-Voght-Schule\; Heizungstechnik
DESCRIPTION:Phase: Ausschreibung | Beschreibung: Offizielle Ausschreibung mit Bieterfrist. | Link: https://ausschreibungsradar.com/ausschreibung/20736564/
URL:https://ausschreibungsradar.com/ausschreibung/20736564/
END:VEVENT
END:VCALENDAR
