BEGIN:VCALENDAR
VERSION:2.0
PRODID:-//AusschreibungsRadar//Timeline//DE
CALSCALE:GREGORIAN
METHOD:PUBLISH
X-WR-CALNAME:Projekt Umnutzung Bahnhof zum Kult.halt - Lose 3 und 4
X-WR-TIMEZONE:Europe/Berlin
BEGIN:VEVENT
UID:0fd5e46223edc43f@ausschreibungsradar.com
DTSTAMP:20260424T233446Z
DTSTART;VALUE=DATE:20230824
DTEND;VALUE=DATE:20230824
SUMMARY:Zuschlag — Umnutzung Bahnhof zum Kult.halt - Lose 3 und 4
DESCRIPTION:Phase: Zuschlag | Beschreibung: Vergabeergebnis — Auftrag wurde erteilt oder Verfahren beendet. | Link: https://ausschreibungsradar.com/ausschreibung/20744522/
URL:https://ausschreibungsradar.com/ausschreibung/20744522/
END:VEVENT
BEGIN:VEVENT
UID:f699525d55e27a20@ausschreibungsradar.com
DTSTAMP:20260424T233446Z
DTSTART;VALUE=DATE:20230825
DTEND;VALUE=DATE:20230825
SUMMARY:Zuschlag — Umnutzung Bahnhof zum Kult.halt - Lose 3 und 4
DESCRIPTION:Phase: Zuschlag | Beschreibung: Vergabeergebnis — Auftrag wurde erteilt oder Verfahren beendet. | Link: https://ausschreibungsradar.com/ausschreibung/20750476/
URL:https://ausschreibungsradar.com/ausschreibung/20750476/
END:VEVENT
END:VCALENDAR
