BEGIN:VCALENDAR
VERSION:2.0
PRODID:-//AusschreibungsRadar//Timeline//DE
CALSCALE:GREGORIAN
METHOD:PUBLISH
X-WR-CALNAME:Projekt SN - Dienstleistungskonzession: Kantinenbetrieb der Verwaltu
X-WR-TIMEZONE:Europe/Berlin
BEGIN:VEVENT
UID:436ea23f9cde135d@ausschreibungsradar.com
DTSTAMP:20260426T010527Z
DTSTART;VALUE=DATE:20250715
DTEND;VALUE=DATE:20250715
SUMMARY:Ausschreibung — SN - Dienstleistungskonzession: Kantinenbetrieb der Verwaltu
DESCRIPTION:Phase: Ausschreibung | Beschreibung: Angebote werden eingeholt | Link: https://ausschreibungsradar.com/ausschreibung/207e0c64-4881-4555-987f-15d40b3e5e6f/
URL:https://ausschreibungsradar.com/ausschreibung/207e0c64-4881-4555-987f-15d40b3e5e6f/
END:VEVENT
BEGIN:VEVENT
UID:25cb710890f46827@ausschreibungsradar.com
DTSTAMP:20260426T010527Z
DTSTART;VALUE=DATE:20250820
DTEND;VALUE=DATE:20250820
SUMMARY:Vergabeergebnis — SN - Dienstleistungskonzession: Kantinenbetrieb der Verwaltu
DESCRIPTION:Phase: Vergabeergebnis | Beschreibung: Keine Angebote eingegangen | Link: https://ausschreibungsradar.com/ausschreibung/66ff99a8-9d7a-426c-9b31-a27a4b38e73f/
URL:https://ausschreibungsradar.com/ausschreibung/66ff99a8-9d7a-426c-9b31-a27a4b38e73f/
END:VEVENT
END:VCALENDAR
