BEGIN:VCALENDAR
VERSION:2.0
PRODID:-//AusschreibungsRadar//Timeline//DE
CALSCALE:GREGORIAN
METHOD:PUBLISH
X-WR-CALNAME:Projekt Liefern und Aufstellen eines Streusalzsilos mit Fundamenten 
X-WR-TIMEZONE:Europe/Berlin
BEGIN:VEVENT
UID:51eb83006f32c332@ausschreibungsradar.com
DTSTAMP:20260424T090054Z
DTSTART;VALUE=DATE:20230921
DTEND;VALUE=DATE:20230921
SUMMARY:Ausschreibung — Liefern und Aufstellen eines Streusalzsilos mit Fundamenten 
DESCRIPTION:Phase: Ausschreibung | Beschreibung: Offizielle Ausschreibung mit Bieterfrist. | Link: https://ausschreibungsradar.com/ausschreibung/20902430/
URL:https://ausschreibungsradar.com/ausschreibung/20902430/
END:VEVENT
BEGIN:VEVENT
UID:e31d3250de07dbb6@ausschreibungsradar.com
DTSTAMP:20260424T090054Z
DTSTART;VALUE=DATE:20231016
DTEND;VALUE=DATE:20231016
SUMMARY:Ausschreibung — Liefern und Aufstellen eines Streusalzsilos mit Fundamenten 
DESCRIPTION:Phase: Ausschreibung | Beschreibung: Offizielle Ausschreibung mit Bieterfrist. | Link: https://ausschreibungsradar.com/ausschreibung/21022950/
URL:https://ausschreibungsradar.com/ausschreibung/21022950/
END:VEVENT
END:VCALENDAR
