BEGIN:VCALENDAR
VERSION:2.0
PRODID:-//AusschreibungsRadar//Timeline//DE
CALSCALE:GREGORIAN
METHOD:PUBLISH
X-WR-CALNAME:Projekt Rahmenvereinbarung Wartung und Störungsbeseitigung von Sprin
X-WR-TIMEZONE:Europe/Berlin
BEGIN:VEVENT
UID:fe7073cd1feb6376@ausschreibungsradar.com
DTSTAMP:20260424T094626Z
DTSTART;VALUE=DATE:20230913
DTEND;VALUE=DATE:20230913
SUMMARY:Ausschreibung — Rahmenvereinbarung Wartung und Störungsbeseitigung von Sprin
DESCRIPTION:Phase: Ausschreibung | Beschreibung: Offizielle Ausschreibung mit Bieterfrist. | Link: https://ausschreibungsradar.com/ausschreibung/20853870/
URL:https://ausschreibungsradar.com/ausschreibung/20853870/
END:VEVENT
BEGIN:VEVENT
UID:1def19777e4b8366@ausschreibungsradar.com
DTSTAMP:20260424T094626Z
DTSTART;VALUE=DATE:20230922
DTEND;VALUE=DATE:20230922
SUMMARY:Ausschreibung — Rahmenvereinbarung Wartung und Störungsbeseitigung von Sprin
DESCRIPTION:Phase: Ausschreibung | Beschreibung: Offizielle Ausschreibung mit Bieterfrist. | Link: https://ausschreibungsradar.com/ausschreibung/20904570/
URL:https://ausschreibungsradar.com/ausschreibung/20904570/
END:VEVENT
END:VCALENDAR
