BEGIN:VCALENDAR
VERSION:2.0
PRODID:-//AusschreibungsRadar//Timeline//DE
CALSCALE:GREGORIAN
METHOD:PUBLISH
X-WR-CALNAME:Projekt Bürgerrathaus - Los 12 - Dachabdichtungsarbeiten Neubau 
X-WR-TIMEZONE:Europe/Berlin
BEGIN:VEVENT
UID:50f01698222705a0@ausschreibungsradar.com
DTSTAMP:20260424T073531Z
DTSTART;VALUE=DATE:20260505
DTEND;VALUE=DATE:20260505
SUMMARY:Angebotsfrist — Bürgerrathaus - Los 12 - Dachabdichtungsarbeiten Neubau 
DESCRIPTION:Phase: Ausschreibung | Beschreibung: Angebote werden eingeholt | Link: https://ausschreibungsradar.com/ausschreibung/20cfab74-00e9-4739-b7c5-bf12b85f3ad2/
URL:https://ausschreibungsradar.com/ausschreibung/20cfab74-00e9-4739-b7c5-bf12b85f3ad2/
END:VEVENT
END:VCALENDAR
