BEGIN:VCALENDAR
VERSION:2.0
PRODID:-//AusschreibungsRadar//Timeline//DE
CALSCALE:GREGORIAN
METHOD:PUBLISH
X-WR-CALNAME:Projekt Deutsche Bundesbank, Ferienheim Abwinkl, Sanierung Bäder Nor
X-WR-TIMEZONE:Europe/Berlin
BEGIN:VEVENT
UID:8e275ec7d79a3d6f@ausschreibungsradar.com
DTSTAMP:20260425T131031Z
DTSTART;VALUE=DATE:20231016
DTEND;VALUE=DATE:20231016
SUMMARY:Zuschlag — Deutsche Bundesbank\, Ferienheim Abwinkl\, Sanierung Bäder Nor
DESCRIPTION:Phase: Zuschlag | Beschreibung: Vergabeergebnis — Auftrag wurde erteilt oder Verfahren beendet. | Link: https://ausschreibungsradar.com/ausschreibung/21016502/
URL:https://ausschreibungsradar.com/ausschreibung/21016502/
END:VEVENT
BEGIN:VEVENT
UID:f103c9d4551b03d9@ausschreibungsradar.com
DTSTAMP:20260425T131031Z
DTSTART;VALUE=DATE:20231020
DTEND;VALUE=DATE:20231020
SUMMARY:Zuschlag — Deutsche Bundesbank\, Ferienheim Abwinkl\, Sanierung Bäder Nor
DESCRIPTION:Phase: Zuschlag | Beschreibung: Vergabeergebnis — Auftrag wurde erteilt oder Verfahren beendet. | Link: https://ausschreibungsradar.com/ausschreibung/20998606/
URL:https://ausschreibungsradar.com/ausschreibung/20998606/
END:VEVENT
END:VCALENDAR
