BEGIN:VCALENDAR
VERSION:2.0
PRODID:-//AusschreibungsRadar//Timeline//DE
CALSCALE:GREGORIAN
METHOD:PUBLISH
X-WR-CALNAME:Projekt Studie zum Stand der Technik (Tech-Scout) in Bayern - Batter
X-WR-TIMEZONE:Europe/Berlin
BEGIN:VEVENT
UID:2cb757d957f4c6d8@ausschreibungsradar.com
DTSTAMP:20260424T114635Z
DTSTART;VALUE=DATE:20231016
DTEND;VALUE=DATE:20231016
SUMMARY:Zuschlag — Studie zum Stand der Technik (Tech-Scout) in Bayern - Batter
DESCRIPTION:Phase: Zuschlag | Beschreibung: Vergabeergebnis — Auftrag wurde erteilt oder Verfahren beendet. | Link: https://ausschreibungsradar.com/ausschreibung/21017886/
URL:https://ausschreibungsradar.com/ausschreibung/21017886/
END:VEVENT
BEGIN:VEVENT
UID:235bce140bc3f321@ausschreibungsradar.com
DTSTAMP:20260424T114635Z
DTSTART;VALUE=DATE:20231019
DTEND;VALUE=DATE:20231019
SUMMARY:Zuschlag — Studie zum Stand der Technik (Tech-Scout) in Bayern - Batter
DESCRIPTION:Phase: Zuschlag | Beschreibung: Vergabeergebnis — Auftrag wurde erteilt oder Verfahren beendet. | Link: https://ausschreibungsradar.com/ausschreibung/21037752/
URL:https://ausschreibungsradar.com/ausschreibung/21037752/
END:VEVENT
BEGIN:VEVENT
UID:f5459f0812fd3ace@ausschreibungsradar.com
DTSTAMP:20260424T114635Z
DTSTART;VALUE=DATE:20231024
DTEND;VALUE=DATE:20231024
SUMMARY:Zuschlag — Studie zum Stand der Technik (Tech-Scout) in Bayern - Batter
DESCRIPTION:Phase: Zuschlag | Beschreibung: Vergabeergebnis — Auftrag wurde erteilt oder Verfahren beendet. | Link: https://ausschreibungsradar.com/ausschreibung/21061518/
URL:https://ausschreibungsradar.com/ausschreibung/21061518/
END:VEVENT
END:VCALENDAR
