BEGIN:VCALENDAR
VERSION:2.0
PRODID:-//AusschreibungsRadar//Timeline//DE
CALSCALE:GREGORIAN
METHOD:PUBLISH
X-WR-CALNAME:Projekt Erweiterung und energetische Sanierung der Mittagsbetreuung 
X-WR-TIMEZONE:Europe/Berlin
BEGIN:VEVENT
UID:06352c8b0250fb11@ausschreibungsradar.com
DTSTAMP:20260424T180857Z
DTSTART;VALUE=DATE:20231026
DTEND;VALUE=DATE:20231026
SUMMARY:Zuschlag — Erweiterung und energetische Sanierung der Mittagsbetreuung 
DESCRIPTION:Phase: Zuschlag | Beschreibung: Vergabeergebnis — Auftrag wurde erteilt oder Verfahren beendet. | Link: https://ausschreibungsradar.com/ausschreibung/21080716/
URL:https://ausschreibungsradar.com/ausschreibung/21080716/
END:VEVENT
BEGIN:VEVENT
UID:e656b3998272c936@ausschreibungsradar.com
DTSTAMP:20260424T180857Z
DTSTART;VALUE=DATE:20231026
DTEND;VALUE=DATE:20231026
SUMMARY:Zuschlag — Erweiterung und energetische Sanierung der Mittagsbetreuung 
DESCRIPTION:Phase: Zuschlag | Beschreibung: Vergabeergebnis — Auftrag wurde erteilt oder Verfahren beendet. | Link: https://ausschreibungsradar.com/ausschreibung/21080704/
URL:https://ausschreibungsradar.com/ausschreibung/21080704/
END:VEVENT
BEGIN:VEVENT
UID:2987fa7791de5317@ausschreibungsradar.com
DTSTAMP:20260424T180857Z
DTSTART;VALUE=DATE:20231026
DTEND;VALUE=DATE:20231026
SUMMARY:Zuschlag — Erweiterung und energetische Sanierung der Mittagsbetreuung 
DESCRIPTION:Phase: Zuschlag | Beschreibung: Vergabeergebnis — Auftrag wurde erteilt oder Verfahren beendet. | Link: https://ausschreibungsradar.com/ausschreibung/21080708/
URL:https://ausschreibungsradar.com/ausschreibung/21080708/
END:VEVENT
BEGIN:VEVENT
UID:486f4501707b05e5@ausschreibungsradar.com
DTSTAMP:20260424T180857Z
DTSTART;VALUE=DATE:20231102
DTEND;VALUE=DATE:20231102
SUMMARY:Ausschreibung — Erweiterung und energetische Sanierung der Mittagsbetreuung 
DESCRIPTION:Phase: Ausschreibung | Beschreibung: Offizielle Ausschreibung mit Bieterfrist. | Link: https://ausschreibungsradar.com/ausschreibung/21115446/
URL:https://ausschreibungsradar.com/ausschreibung/21115446/
END:VEVENT
BEGIN:VEVENT
UID:30cc6f9dc6b1b993@ausschreibungsradar.com
DTSTAMP:20260424T180857Z
DTSTART;VALUE=DATE:20231102
DTEND;VALUE=DATE:20231102
SUMMARY:Ausschreibung — Erweiterung und energetische Sanierung der Mittagsbetreuung 
DESCRIPTION:Phase: Ausschreibung | Beschreibung: Offizielle Ausschreibung mit Bieterfrist. | Link: https://ausschreibungsradar.com/ausschreibung/21115788/
URL:https://ausschreibungsradar.com/ausschreibung/21115788/
END:VEVENT
END:VCALENDAR
