BEGIN:VCALENDAR
VERSION:2.0
PRODID:-//AusschreibungsRadar//Timeline//DE
CALSCALE:GREGORIAN
METHOD:PUBLISH
X-WR-CALNAME:Projekt Medientechnik, Lieferung und Installation
X-WR-TIMEZONE:Europe/Berlin
BEGIN:VEVENT
UID:bbb4099abf44b64c@ausschreibungsradar.com
DTSTAMP:20260424T141238Z
DTSTART;VALUE=DATE:20231120
DTEND;VALUE=DATE:20231120
SUMMARY:Ausschreibung — Medientechnik\, Lieferung und Installation
DESCRIPTION:Phase: Ausschreibung | Beschreibung: Offizielle Ausschreibung mit Bieterfrist. | Link: https://ausschreibungsradar.com/ausschreibung/21197652/
URL:https://ausschreibungsradar.com/ausschreibung/21197652/
END:VEVENT
BEGIN:VEVENT
UID:0168988a06e5bd6c@ausschreibungsradar.com
DTSTAMP:20260424T141238Z
DTSTART;VALUE=DATE:20231129
DTEND;VALUE=DATE:20231129
SUMMARY:Ausschreibung — Medientechnik\, Lieferung und Installation
DESCRIPTION:Phase: Ausschreibung | Beschreibung: Offizielle Ausschreibung mit Bieterfrist. | Link: https://ausschreibungsradar.com/ausschreibung/21244914/
URL:https://ausschreibungsradar.com/ausschreibung/21244914/
END:VEVENT
END:VCALENDAR
