BEGIN:VCALENDAR
VERSION:2.0
PRODID:-//AusschreibungsRadar//Timeline//DE
CALSCALE:GREGORIAN
METHOD:PUBLISH
X-WR-CALNAME:Projekt Bodenbelagsarbeiten
X-WR-TIMEZONE:Europe/Berlin
BEGIN:VEVENT
UID:5adce83b79ac615b@ausschreibungsradar.com
DTSTAMP:20260424T132415Z
DTSTART;VALUE=DATE:20231120
DTEND;VALUE=DATE:20231120
SUMMARY:Ausschreibung — Bodenbelagsarbeiten
DESCRIPTION:Phase: Ausschreibung | Beschreibung: Offizielle Ausschreibung mit Bieterfrist. | Link: https://ausschreibungsradar.com/ausschreibung/21202344/
URL:https://ausschreibungsradar.com/ausschreibung/21202344/
END:VEVENT
BEGIN:VEVENT
UID:a4082e673138ee93@ausschreibungsradar.com
DTSTAMP:20260424T132415Z
DTSTART;VALUE=DATE:20231127
DTEND;VALUE=DATE:20231127
SUMMARY:Ausschreibung — Bodenbelagsarbeiten
DESCRIPTION:Phase: Ausschreibung | Beschreibung: Offizielle Ausschreibung mit Bieterfrist. | Link: https://ausschreibungsradar.com/ausschreibung/4504b8b7-5660-4ed6-92c9-04777a8c0c3b/
URL:https://ausschreibungsradar.com/ausschreibung/4504b8b7-5660-4ed6-92c9-04777a8c0c3b/
END:VEVENT
END:VCALENDAR
