BEGIN:VCALENDAR
VERSION:2.0
PRODID:-//AusschreibungsRadar//Timeline//DE
CALSCALE:GREGORIAN
METHOD:PUBLISH
X-WR-CALNAME:Projekt Neubau Wohn- u. Geschäftshaus Rückbau der Bestandsgebäude - 
X-WR-TIMEZONE:Europe/Berlin
BEGIN:VEVENT
UID:c8d218790e4ec1ce@ausschreibungsradar.com
DTSTAMP:20260425T225029Z
DTSTART;VALUE=DATE:20231221
DTEND;VALUE=DATE:20231221
SUMMARY:Ausschreibung — Neubau Wohn- u. Geschäftshaus Rückbau der Bestandsgebäude - 
DESCRIPTION:Phase: Ausschreibung | Beschreibung: Offizielle Ausschreibung mit Bieterfrist. | Link: https://ausschreibungsradar.com/ausschreibung/21352596/
URL:https://ausschreibungsradar.com/ausschreibung/21352596/
END:VEVENT
BEGIN:VEVENT
UID:36ffc8d5e240930c@ausschreibungsradar.com
DTSTAMP:20260425T225029Z
DTSTART;VALUE=DATE:20231221
DTEND;VALUE=DATE:20231221
SUMMARY:Ausschreibung — Neubau Wohn- u. Geschäftshaus Rückbau der Bestandsgebäude - 
DESCRIPTION:Phase: Ausschreibung | Beschreibung: Offizielle Ausschreibung mit Bieterfrist. | Link: https://ausschreibungsradar.com/ausschreibung/21352588/
URL:https://ausschreibungsradar.com/ausschreibung/21352588/
END:VEVENT
END:VCALENDAR
