BEGIN:VCALENDAR
VERSION:2.0
PRODID:-//AusschreibungsRadar//Timeline//DE
CALSCALE:GREGORIAN
METHOD:PUBLISH
X-WR-CALNAME:Projekt Überlassung von Arbeitnehmern nach AÜG im pflegerischen Bere
X-WR-TIMEZONE:Europe/Berlin
BEGIN:VEVENT
UID:c11e4f79552f599d@ausschreibungsradar.com
DTSTAMP:20260425T133140Z
DTSTART;VALUE=DATE:20250509
DTEND;VALUE=DATE:20250509
SUMMARY:Angebotsfrist — Überlassung von Arbeitnehmern nach AÜG im pflegerischen Bere
DESCRIPTION:Phase: Ausschreibung | Beschreibung: Angebote werden eingeholt | Link: https://ausschreibungsradar.com/ausschreibung/ca91eb5f-fb6b-47d4-9f2c-d21454604a05/
URL:https://ausschreibungsradar.com/ausschreibung/ca91eb5f-fb6b-47d4-9f2c-d21454604a05/
END:VEVENT
BEGIN:VEVENT
UID:6737f68805dcc55a@ausschreibungsradar.com
DTSTAMP:20260425T133140Z
DTSTART;VALUE=DATE:20260223
DTEND;VALUE=DATE:20260223
SUMMARY:Ausschreibung — Überlassung von Arbeitnehmern nach AÜG im pflegerischen Bere
DESCRIPTION:Phase: Ausschreibung | Beschreibung: Offizielle Ausschreibung mit Bieterfrist. | Link: https://ausschreibungsradar.com/ausschreibung/85fda193-e4ab-43fe-987f-d03e9dfe833f/
URL:https://ausschreibungsradar.com/ausschreibung/85fda193-e4ab-43fe-987f-d03e9dfe833f/
END:VEVENT
BEGIN:VEVENT
UID:6b838f32d134b93f@ausschreibungsradar.com
DTSTAMP:20260425T133140Z
DTSTART;VALUE=DATE:20260324
DTEND;VALUE=DATE:20260324
SUMMARY:Vergabeergebnis — Überlassung von Arbeitnehmern nach AÜG im pflegerischen Bere
DESCRIPTION:Phase: Vergabeergebnis | Beschreibung: Auftrag wurde zugeschlagen | Link: https://ausschreibungsradar.com/ausschreibung/213bba3b-263c-4d3e-81cf-00767903642d/
URL:https://ausschreibungsradar.com/ausschreibung/213bba3b-263c-4d3e-81cf-00767903642d/
END:VEVENT
END:VCALENDAR
